BEGIN:VCALENDAR
VERSION:2.0
PRODID:-//Kilsby Village Hall - ECPv6.15.20//NONSGML v1.0//EN
CALSCALE:GREGORIAN
METHOD:PUBLISH
X-WR-CALNAME:Kilsby Village Hall
X-ORIGINAL-URL:https://www.kilsbyvillagehall.co.uk
X-WR-CALDESC:Events for Kilsby Village Hall
REFRESH-INTERVAL;VALUE=DURATION:PT1H
X-Robots-Tag:noindex
X-PUBLISHED-TTL:PT1H
BEGIN:VTIMEZONE
TZID:Europe/London
BEGIN:DAYLIGHT
TZOFFSETFROM:+0000
TZOFFSETTO:+0100
TZNAME:BST
DTSTART:20250330T010000
END:DAYLIGHT
BEGIN:STANDARD
TZOFFSETFROM:+0100
TZOFFSETTO:+0000
TZNAME:GMT
DTSTART:20251026T010000
END:STANDARD
BEGIN:DAYLIGHT
TZOFFSETFROM:+0000
TZOFFSETTO:+0100
TZNAME:BST
DTSTART:20260329T010000
END:DAYLIGHT
BEGIN:STANDARD
TZOFFSETFROM:+0100
TZOFFSETTO:+0000
TZNAME:GMT
DTSTART:20261025T010000
END:STANDARD
BEGIN:DAYLIGHT
TZOFFSETFROM:+0000
TZOFFSETTO:+0100
TZNAME:BST
DTSTART:20270328T010000
END:DAYLIGHT
BEGIN:STANDARD
TZOFFSETFROM:+0100
TZOFFSETTO:+0000
TZNAME:GMT
DTSTART:20271031T010000
END:STANDARD
END:VTIMEZONE
BEGIN:VEVENT
DTSTART;TZID=Europe/London:20260605T153000
DTEND;TZID=Europe/London:20260605T230000
DTSTAMP:20260422T095520
CREATED:20251202T144951Z
LAST-MODIFIED:20251202T144951Z
UID:10008489-1780673400-1780700400@www.kilsbyvillagehall.co.uk
SUMMARY:Jazz Club - MH & KR
DESCRIPTION:
URL:https://www.kilsbyvillagehall.co.uk/event/jazz-club-mh-kr/2026-06-05/
END:VEVENT
BEGIN:VEVENT
DTSTART;TZID=Europe/London:20260911T153000
DTEND;TZID=Europe/London:20260911T230000
DTSTAMP:20260422T095520
CREATED:20251202T144951Z
LAST-MODIFIED:20251202T144951Z
UID:10008490-1789140600-1789167600@www.kilsbyvillagehall.co.uk
SUMMARY:Jazz Club - MH & KR
DESCRIPTION:
URL:https://www.kilsbyvillagehall.co.uk/event/jazz-club-mh-kr/2026-09-11/
END:VEVENT
BEGIN:VEVENT
DTSTART;TZID=Europe/London:20261204T153000
DTEND;TZID=Europe/London:20261204T230000
DTSTAMP:20260422T095520
CREATED:20251202T144951Z
LAST-MODIFIED:20251202T144951Z
UID:10008491-1796398200-1796425200@www.kilsbyvillagehall.co.uk
SUMMARY:Jazz Club - MH & KR
DESCRIPTION:
URL:https://www.kilsbyvillagehall.co.uk/event/jazz-club-mh-kr/2026-12-04/
END:VEVENT
END:VCALENDAR