BEGIN:VCALENDAR
VERSION:2.0
PRODID:-//Kilsby Village Hall - ECPv6.15.20//NONSGML v1.0//EN
CALSCALE:GREGORIAN
METHOD:PUBLISH
X-WR-CALNAME:Kilsby Village Hall
X-ORIGINAL-URL:https://www.kilsbyvillagehall.co.uk
X-WR-CALDESC:Events for Kilsby Village Hall
REFRESH-INTERVAL;VALUE=DURATION:PT1H
X-Robots-Tag:noindex
X-PUBLISHED-TTL:PT1H
BEGIN:VTIMEZONE
TZID:Europe/London
BEGIN:DAYLIGHT
TZOFFSETFROM:+0000
TZOFFSETTO:+0100
TZNAME:BST
DTSTART:20220327T010000
END:DAYLIGHT
BEGIN:STANDARD
TZOFFSETFROM:+0100
TZOFFSETTO:+0000
TZNAME:GMT
DTSTART:20221030T010000
END:STANDARD
BEGIN:DAYLIGHT
TZOFFSETFROM:+0000
TZOFFSETTO:+0100
TZNAME:BST
DTSTART:20230326T010000
END:DAYLIGHT
BEGIN:STANDARD
TZOFFSETFROM:+0100
TZOFFSETTO:+0000
TZNAME:GMT
DTSTART:20231029T010000
END:STANDARD
BEGIN:DAYLIGHT
TZOFFSETFROM:+0000
TZOFFSETTO:+0100
TZNAME:BST
DTSTART:20240331T010000
END:DAYLIGHT
BEGIN:STANDARD
TZOFFSETFROM:+0100
TZOFFSETTO:+0000
TZNAME:GMT
DTSTART:20241027T010000
END:STANDARD
END:VTIMEZONE
BEGIN:VEVENT
DTSTART;TZID=Europe/London:20231010T183000
DTEND;TZID=Europe/London:20231010T220000
DTSTAMP:20260422T171716
CREATED:20230927T145424Z
LAST-MODIFIED:20230927T145424Z
UID:10004152-1696962600-1696975200@www.kilsbyvillagehall.co.uk
SUMMARY:PC Meeting Kilsby Rm
DESCRIPTION:
URL:https://www.kilsbyvillagehall.co.uk/event/pc-meeting-kilsby-rm-2/
END:VEVENT
BEGIN:VEVENT
DTSTART;TZID=Europe/London:20231010T173000
DTEND;TZID=Europe/London:20231010T190000
DTSTAMP:20260422T171716
CREATED:20230927T141048Z
LAST-MODIFIED:20230927T141048Z
UID:10004111-1696959000-1696964400@www.kilsbyvillagehall.co.uk
SUMMARY:Dog Training
DESCRIPTION:
URL:https://www.kilsbyvillagehall.co.uk/event/dog-training-122/
END:VEVENT
BEGIN:VEVENT
DTSTART;TZID=Europe/London:20231010T140000
DTEND;TZID=Europe/London:20231010T160000
DTSTAMP:20260422T171716
CREATED:20230927T141012Z
LAST-MODIFIED:20230927T141012Z
UID:10004110-1696946400-1696953600@www.kilsbyvillagehall.co.uk
SUMMARY:Over 60's Table Tennis
DESCRIPTION:
URL:https://www.kilsbyvillagehall.co.uk/event/over-60s-table-tennis-107/
END:VEVENT
BEGIN:VEVENT
DTSTART;TZID=Europe/London:20231010T093000
DTEND;TZID=Europe/London:20231010T103000
DTSTAMP:20260422T171716
CREATED:20230927T140941Z
LAST-MODIFIED:20230927T140941Z
UID:10004109-1696930200-1696933800@www.kilsbyvillagehall.co.uk
SUMMARY:Mini Maestros
DESCRIPTION:
URL:https://www.kilsbyvillagehall.co.uk/event/mini-maestros-2/
END:VEVENT
BEGIN:VEVENT
DTSTART;TZID=Europe/London:20231009T183000
DTEND;TZID=Europe/London:20231009T203000
DTSTAMP:20260422T171716
CREATED:20230927T140905Z
LAST-MODIFIED:20230927T140905Z
UID:10004108-1696876200-1696883400@www.kilsbyvillagehall.co.uk
SUMMARY:Pilates/Yoga
DESCRIPTION:
URL:https://www.kilsbyvillagehall.co.uk/event/pilates-yoga-41/
END:VEVENT
BEGIN:VEVENT
DTSTART;TZID=Europe/London:20231009T090000
DTEND;TZID=Europe/London:20231009T120000
DTSTAMP:20260422T171716
CREATED:20230927T140834Z
LAST-MODIFIED:20230927T140834Z
UID:10004107-1696842000-1696852800@www.kilsbyvillagehall.co.uk
SUMMARY:Toddlers Playtime
DESCRIPTION:
URL:https://www.kilsbyvillagehall.co.uk/event/toddlers-playtime-98/
END:VEVENT
BEGIN:VEVENT
DTSTART;TZID=Europe/London:20231008T160000
DTEND;TZID=Europe/London:20231008T210000
DTSTAMP:20260422T171716
CREATED:20230927T133808Z
LAST-MODIFIED:20230927T133808Z
UID:10004106-1696780800-1696798800@www.kilsbyvillagehall.co.uk
SUMMARY:Private Booking
DESCRIPTION:
URL:https://www.kilsbyvillagehall.co.uk/event/private-booking-217/
END:VEVENT
BEGIN:VEVENT
DTSTART;TZID=Europe/London:20231008T090000
DTEND;TZID=Europe/London:20231008T120000
DTSTAMP:20260422T171716
CREATED:20230927T133740Z
LAST-MODIFIED:20230927T133740Z
UID:10004105-1696755600-1696766400@www.kilsbyvillagehall.co.uk
SUMMARY:Dog Training
DESCRIPTION:
URL:https://www.kilsbyvillagehall.co.uk/event/dog-training-121/
END:VEVENT
BEGIN:VEVENT
DTSTART;TZID=Europe/London:20231007T180000
DTEND;TZID=Europe/London:20231007T230000
DTSTAMP:20260422T171716
CREATED:20230927T133706Z
LAST-MODIFIED:20230927T133706Z
UID:10004104-1696701600-1696719600@www.kilsbyvillagehall.co.uk
SUMMARY:KAG Quiz
DESCRIPTION:
URL:https://www.kilsbyvillagehall.co.uk/event/kag-quiz/
END:VEVENT
BEGIN:VEVENT
DTSTART;TZID=Europe/London:20231007T103000
DTEND;TZID=Europe/London:20231007T153000
DTSTAMP:20260422T171716
CREATED:20230927T133606Z
LAST-MODIFIED:20230927T133606Z
UID:10004103-1696674600-1696692600@www.kilsbyvillagehall.co.uk
SUMMARY:Private Booking
DESCRIPTION:
URL:https://www.kilsbyvillagehall.co.uk/event/private-booking-216/
END:VEVENT
BEGIN:VEVENT
DTSTART;TZID=Europe/London:20231006T190000
DTEND;TZID=Europe/London:20231006T213000
DTSTAMP:20260422T171716
CREATED:20230927T133526Z
LAST-MODIFIED:20230927T133526Z
UID:10004102-1696618800-1696627800@www.kilsbyvillagehall.co.uk
SUMMARY:Youth Club
DESCRIPTION:
URL:https://www.kilsbyvillagehall.co.uk/event/youth-club-85/
END:VEVENT
BEGIN:VEVENT
DTSTART;TZID=Europe/London:20231005T190000
DTEND;TZID=Europe/London:20231005T210000
DTSTAMP:20260422T171716
CREATED:20230929T084424Z
LAST-MODIFIED:20230929T084424Z
UID:10004157-1696532400-1696539600@www.kilsbyvillagehall.co.uk
SUMMARY:Self Defence. Kilsby Rm
DESCRIPTION:
URL:https://www.kilsbyvillagehall.co.uk/event/self-defence-kilsby-rm-12/
END:VEVENT
BEGIN:VEVENT
DTSTART;TZID=Europe/London:20231005T150000
DTEND;TZID=Europe/London:20231005T160000
DTSTAMP:20260422T171716
CREATED:20230927T133402Z
LAST-MODIFIED:20230927T133402Z
UID:10004100-1696518000-1696521600@www.kilsbyvillagehall.co.uk
SUMMARY:Private Booking
DESCRIPTION:
URL:https://www.kilsbyvillagehall.co.uk/event/private-booking-215/
END:VEVENT
BEGIN:VEVENT
DTSTART;TZID=Europe/London:20231004T190000
DTEND;TZID=Europe/London:20231004T200000
DTSTAMP:20260422T171716
CREATED:20230927T133206Z
LAST-MODIFIED:20230927T133206Z
UID:10004099-1696446000-1696449600@www.kilsbyvillagehall.co.uk
SUMMARY:Yoga
DESCRIPTION:
URL:https://www.kilsbyvillagehall.co.uk/event/yoga-9/
END:VEVENT
BEGIN:VEVENT
DTSTART;TZID=Europe/London:20231004T130000
DTEND;TZID=Europe/London:20231004T150000
DTSTAMP:20260422T171716
CREATED:20230927T145339Z
LAST-MODIFIED:20230927T145339Z
UID:10004151-1696424400-1696431600@www.kilsbyvillagehall.co.uk
SUMMARY:Art Group. Kilsby Rm
DESCRIPTION:
URL:https://www.kilsbyvillagehall.co.uk/event/art-group-kilsby-rm-59/
END:VEVENT
BEGIN:VEVENT
DTSTART;TZID=Europe/London:20231003T193000
DTEND;TZID=Europe/London:20231003T203000
DTSTAMP:20260422T171716
CREATED:20230927T133124Z
LAST-MODIFIED:20230927T133124Z
UID:10004098-1696361400-1696365000@www.kilsbyvillagehall.co.uk
SUMMARY:Keep Fit
DESCRIPTION:
URL:https://www.kilsbyvillagehall.co.uk/event/keep-fit-52/
END:VEVENT
BEGIN:VEVENT
DTSTART;TZID=Europe/London:20231003T170000
DTEND;TZID=Europe/London:20231003T190000
DTSTAMP:20260422T171716
CREATED:20230927T133046Z
LAST-MODIFIED:20230927T133046Z
UID:10004097-1696352400-1696359600@www.kilsbyvillagehall.co.uk
SUMMARY:Dog Training
DESCRIPTION:
URL:https://www.kilsbyvillagehall.co.uk/event/dog-training-119/
END:VEVENT
BEGIN:VEVENT
DTSTART;TZID=Europe/London:20231003T140000
DTEND;TZID=Europe/London:20231003T160000
DTSTAMP:20260422T171716
CREATED:20230927T132949Z
LAST-MODIFIED:20230927T132949Z
UID:10004096-1696341600-1696348800@www.kilsbyvillagehall.co.uk
SUMMARY:Table Tennis
DESCRIPTION:
URL:https://www.kilsbyvillagehall.co.uk/event/table-tennis-10/
END:VEVENT
BEGIN:VEVENT
DTSTART;TZID=Europe/London:20231003T093000
DTEND;TZID=Europe/London:20231003T103000
DTSTAMP:20260422T171716
CREATED:20230927T132921Z
LAST-MODIFIED:20230927T132921Z
UID:10004095-1696325400-1696329000@www.kilsbyvillagehall.co.uk
SUMMARY:Mini Maestros
DESCRIPTION:
URL:https://www.kilsbyvillagehall.co.uk/event/mini-maestros/
END:VEVENT
BEGIN:VEVENT
DTSTART;TZID=Europe/London:20231002T183000
DTEND;TZID=Europe/London:20231002T203000
DTSTAMP:20260422T171716
CREATED:20230927T132840Z
LAST-MODIFIED:20230927T132840Z
UID:10004094-1696271400-1696278600@www.kilsbyvillagehall.co.uk
SUMMARY:Pilates/Yoga
DESCRIPTION:
URL:https://www.kilsbyvillagehall.co.uk/event/pilates-yoga-40/
END:VEVENT
BEGIN:VEVENT
DTSTART;TZID=Europe/London:20231002T090000
DTEND;TZID=Europe/London:20231002T120000
DTSTAMP:20260422T171716
CREATED:20230927T132809Z
LAST-MODIFIED:20230927T132809Z
UID:10004093-1696237200-1696248000@www.kilsbyvillagehall.co.uk
SUMMARY:Toddlers Playtime
DESCRIPTION:
URL:https://www.kilsbyvillagehall.co.uk/event/toddlers-playtime-97/
END:VEVENT
BEGIN:VEVENT
DTSTART;TZID=Europe/London:20231001T130000
DTEND;TZID=Europe/London:20231001T160000
DTSTAMP:20260422T171716
CREATED:20230927T132639Z
LAST-MODIFIED:20230927T132639Z
UID:10004091-1696165200-1696176000@www.kilsbyvillagehall.co.uk
SUMMARY:Private Booking
DESCRIPTION:
URL:https://www.kilsbyvillagehall.co.uk/event/private-booking-214/
END:VEVENT
BEGIN:VEVENT
DTSTART;TZID=Europe/London:20231001T090000
DTEND;TZID=Europe/London:20231001T120000
DTSTAMP:20260422T171716
CREATED:20230927T132721Z
LAST-MODIFIED:20230927T132721Z
UID:10004092-1696150800-1696161600@www.kilsbyvillagehall.co.uk
SUMMARY:Dog Training
DESCRIPTION:
URL:https://www.kilsbyvillagehall.co.uk/event/dog-training-118/
END:VEVENT
BEGIN:VEVENT
DTSTART;TZID=Europe/London:20230928T173000
DTEND;TZID=Europe/London:20230928T183000
DTSTAMP:20260422T171716
CREATED:20230823T093601Z
LAST-MODIFIED:20230823T093601Z
UID:10004088-1695922200-1695925800@www.kilsbyvillagehall.co.uk
SUMMARY:Dog Training
DESCRIPTION:
URL:https://www.kilsbyvillagehall.co.uk/event/dog-training-117/
END:VEVENT
BEGIN:VEVENT
DTSTART;TZID=Europe/London:20230928T150000
DTEND;TZID=Europe/London:20230928T160000
DTSTAMP:20260422T171716
CREATED:20230731T152157Z
LAST-MODIFIED:20230823T094346Z
UID:10004062-1695913200-1695916800@www.kilsbyvillagehall.co.uk
SUMMARY:Private Booking
DESCRIPTION:
URL:https://www.kilsbyvillagehall.co.uk/event/private-bookingh/
END:VEVENT
BEGIN:VEVENT
DTSTART;TZID=Europe/London:20230928T073000
DTEND;TZID=Europe/London:20230928T210000
DTSTAMP:20260422T171716
CREATED:20230823T092258Z
LAST-MODIFIED:20230823T092258Z
UID:10004078-1695886200-1695934800@www.kilsbyvillagehall.co.uk
SUMMARY:Self Defence. Kilsby Rm
DESCRIPTION:
URL:https://www.kilsbyvillagehall.co.uk/event/self-defence-kilsby-rm-10/
END:VEVENT
BEGIN:VEVENT
DTSTART;TZID=Europe/London:20230927T190000
DTEND;TZID=Europe/London:20230927T200000
DTSTAMP:20260422T171716
CREATED:20230823T093738Z
LAST-MODIFIED:20230823T093738Z
UID:10004089-1695841200-1695844800@www.kilsbyvillagehall.co.uk
SUMMARY:Yoga
DESCRIPTION:
URL:https://www.kilsbyvillagehall.co.uk/event/yoga-8/
END:VEVENT
BEGIN:VEVENT
DTSTART;TZID=Europe/London:20230927T150000
DTEND;TZID=Europe/London:20230927T200000
DTSTAMP:20260422T171716
CREATED:20230927T142807Z
LAST-MODIFIED:20230927T142807Z
UID:10004129-1695826800-1695844800@www.kilsbyvillagehall.co.uk
SUMMARY:Private Booking
DESCRIPTION:
URL:https://www.kilsbyvillagehall.co.uk/event/private-booking-223/
END:VEVENT
BEGIN:VEVENT
DTSTART;TZID=Europe/London:20230927T130000
DTEND;TZID=Europe/London:20230927T150000
DTSTAMP:20260422T171716
CREATED:20230823T092607Z
LAST-MODIFIED:20230823T092607Z
UID:10004082-1695819600-1695826800@www.kilsbyvillagehall.co.uk
SUMMARY:Art Group. Kilsby Rm
DESCRIPTION:
URL:https://www.kilsbyvillagehall.co.uk/event/art-group-kilsby-rm-62/
END:VEVENT
BEGIN:VEVENT
DTSTART;TZID=Europe/London:20230926T193000
DTEND;TZID=Europe/London:20230926T203000
DTSTAMP:20260422T171716
CREATED:20230823T094257Z
LAST-MODIFIED:20230823T094257Z
UID:10004090-1695756600-1695760200@www.kilsbyvillagehall.co.uk
SUMMARY:Keep Fit
DESCRIPTION:
URL:https://www.kilsbyvillagehall.co.uk/event/keep-fit-51/
END:VEVENT
END:VCALENDAR