BEGIN:VCALENDAR
VERSION:2.0
PRODID:-//Kilsby Village Hall - ECPv6.15.20//NONSGML v1.0//EN
CALSCALE:GREGORIAN
METHOD:PUBLISH
X-WR-CALNAME:Kilsby Village Hall
X-ORIGINAL-URL:https://www.kilsbyvillagehall.co.uk
X-WR-CALDESC:Events for Kilsby Village Hall
REFRESH-INTERVAL;VALUE=DURATION:PT1H
X-Robots-Tag:noindex
X-PUBLISHED-TTL:PT1H
BEGIN:VTIMEZONE
TZID:Europe/London
BEGIN:DAYLIGHT
TZOFFSETFROM:+0000
TZOFFSETTO:+0100
TZNAME:BST
DTSTART:20250330T010000
END:DAYLIGHT
BEGIN:STANDARD
TZOFFSETFROM:+0100
TZOFFSETTO:+0000
TZNAME:GMT
DTSTART:20251026T010000
END:STANDARD
BEGIN:DAYLIGHT
TZOFFSETFROM:+0000
TZOFFSETTO:+0100
TZNAME:BST
DTSTART:20260329T010000
END:DAYLIGHT
BEGIN:STANDARD
TZOFFSETFROM:+0100
TZOFFSETTO:+0000
TZNAME:GMT
DTSTART:20261025T010000
END:STANDARD
BEGIN:DAYLIGHT
TZOFFSETFROM:+0000
TZOFFSETTO:+0100
TZNAME:BST
DTSTART:20270328T010000
END:DAYLIGHT
BEGIN:STANDARD
TZOFFSETFROM:+0100
TZOFFSETTO:+0000
TZNAME:GMT
DTSTART:20271031T010000
END:STANDARD
BEGIN:DAYLIGHT
TZOFFSETFROM:+0000
TZOFFSETTO:+0100
TZNAME:BST
DTSTART:20280326T010000
END:DAYLIGHT
BEGIN:STANDARD
TZOFFSETFROM:+0100
TZOFFSETTO:+0000
TZNAME:GMT
DTSTART:20281029T010000
END:STANDARD
BEGIN:DAYLIGHT
TZOFFSETFROM:+0000
TZOFFSETTO:+0100
TZNAME:BST
DTSTART:20290325T010000
END:DAYLIGHT
BEGIN:STANDARD
TZOFFSETFROM:+0100
TZOFFSETTO:+0000
TZNAME:GMT
DTSTART:20291028T010000
END:STANDARD
END:VTIMEZONE
BEGIN:VEVENT
DTSTART;TZID=Europe/London:20261216T193000
DTEND;TZID=Europe/London:20261216T210000
DTSTAMP:20260420T080049
CREATED:20260316T133146Z
LAST-MODIFIED:20260316T133146Z
UID:10008851-1797449400-1797454800@www.kilsbyvillagehall.co.uk
SUMMARY:Self Defence - KR
DESCRIPTION:
URL:https://www.kilsbyvillagehall.co.uk/event/self-defence-kr-7/2026-12-16/
END:VEVENT
BEGIN:VEVENT
DTSTART;TZID=Europe/London:20261217T150000
DTEND;TZID=Europe/London:20261217T160000
DTSTAMP:20260420T080049
CREATED:20251216T132540Z
LAST-MODIFIED:20251216T132540Z
UID:10008666-1797519600-1797523200@www.kilsbyvillagehall.co.uk
SUMMARY:Private Event TT - MH
DESCRIPTION:
URL:https://www.kilsbyvillagehall.co.uk/event/private-event-tt-mh/2026-12-17/
END:VEVENT
BEGIN:VEVENT
DTSTART;TZID=Europe/London:20261221T181500
DTEND;TZID=Europe/London:20261221T194500
DTSTAMP:20260420T080049
CREATED:20260112T154230Z
LAST-MODIFIED:20260112T154230Z
UID:10008713-1797876900-1797882300@www.kilsbyvillagehall.co.uk
SUMMARY:Pilates - MH
DESCRIPTION:
URL:https://www.kilsbyvillagehall.co.uk/event/pilates-mh-4-2/2026-12-21/
END:VEVENT
BEGIN:VEVENT
DTSTART;TZID=Europe/London:20261222T140000
DTEND;TZID=Europe/London:20261222T160000
DTSTAMP:20260420T080049
CREATED:20251202T143456Z
LAST-MODIFIED:20251202T143456Z
UID:10008483-1797948000-1797955200@www.kilsbyvillagehall.co.uk
SUMMARY:Table Tennis - MH
DESCRIPTION:
URL:https://www.kilsbyvillagehall.co.uk/event/table-tennis-mh/2026-12-22/
END:VEVENT
BEGIN:VEVENT
DTSTART;TZID=Europe/London:20261229T140000
DTEND;TZID=Europe/London:20261229T160000
DTSTAMP:20260420T080049
CREATED:20251202T143456Z
LAST-MODIFIED:20251202T143456Z
UID:10008484-1798552800-1798560000@www.kilsbyvillagehall.co.uk
SUMMARY:Table Tennis - MH
DESCRIPTION:
URL:https://www.kilsbyvillagehall.co.uk/event/table-tennis-mh/2026-12-29/
END:VEVENT
BEGIN:VEVENT
DTSTART;TZID=Europe/London:20270105T140000
DTEND;TZID=Europe/London:20270105T160000
DTSTAMP:20260420T080049
CREATED:20251202T143456Z
LAST-MODIFIED:20251202T143456Z
UID:10008485-1799157600-1799164800@www.kilsbyvillagehall.co.uk
SUMMARY:Table Tennis - MH
DESCRIPTION:
URL:https://www.kilsbyvillagehall.co.uk/event/table-tennis-mh/2027-01-05/
END:VEVENT
BEGIN:VEVENT
DTSTART;TZID=Europe/London:20270112T140000
DTEND;TZID=Europe/London:20270112T160000
DTSTAMP:20260420T080049
CREATED:20251202T143456Z
LAST-MODIFIED:20251202T143456Z
UID:10008486-1799762400-1799769600@www.kilsbyvillagehall.co.uk
SUMMARY:Table Tennis - MH
DESCRIPTION:
URL:https://www.kilsbyvillagehall.co.uk/event/table-tennis-mh/2027-01-12/
END:VEVENT
BEGIN:VEVENT
DTSTART;TZID=Europe/London:20270114T190000
DTEND;TZID=Europe/London:20270114T220000
DTSTAMP:20260420T080049
CREATED:20240127T120633Z
LAST-MODIFIED:20240127T130626Z
UID:10005161-1799953200-1799964000@www.kilsbyvillagehall.co.uk
SUMMARY:W.I. Meeting
DESCRIPTION:
URL:https://www.kilsbyvillagehall.co.uk/event/w-i-meeting-4/2027-01-14/
END:VEVENT
BEGIN:VEVENT
DTSTART;TZID=Europe/London:20270119T140000
DTEND;TZID=Europe/London:20270119T160000
DTSTAMP:20260420T080049
CREATED:20251202T143456Z
LAST-MODIFIED:20251202T143456Z
UID:10008487-1800367200-1800374400@www.kilsbyvillagehall.co.uk
SUMMARY:Table Tennis - MH
DESCRIPTION:
URL:https://www.kilsbyvillagehall.co.uk/event/table-tennis-mh/2027-01-19/
END:VEVENT
BEGIN:VEVENT
DTSTART;TZID=Europe/London:20270211T190000
DTEND;TZID=Europe/London:20270211T220000
DTSTAMP:20260420T080049
CREATED:20240127T120633Z
LAST-MODIFIED:20240127T130626Z
UID:10005162-1802372400-1802383200@www.kilsbyvillagehall.co.uk
SUMMARY:W.I. Meeting
DESCRIPTION:
URL:https://www.kilsbyvillagehall.co.uk/event/w-i-meeting-4/2027-02-11/
END:VEVENT
BEGIN:VEVENT
DTSTART;TZID=Europe/London:20270311T190000
DTEND;TZID=Europe/London:20270311T220000
DTSTAMP:20260420T080049
CREATED:20240127T120633Z
LAST-MODIFIED:20240127T130626Z
UID:10005163-1804791600-1804802400@www.kilsbyvillagehall.co.uk
SUMMARY:W.I. Meeting
DESCRIPTION:
URL:https://www.kilsbyvillagehall.co.uk/event/w-i-meeting-4/2027-03-11/
END:VEVENT
BEGIN:VEVENT
DTSTART;TZID=Europe/London:20270408T190000
DTEND;TZID=Europe/London:20270408T220000
DTSTAMP:20260420T080049
CREATED:20240127T120633Z
LAST-MODIFIED:20240127T130626Z
UID:10005164-1807210800-1807221600@www.kilsbyvillagehall.co.uk
SUMMARY:W.I. Meeting
DESCRIPTION:
URL:https://www.kilsbyvillagehall.co.uk/event/w-i-meeting-4/2027-04-08/
END:VEVENT
BEGIN:VEVENT
DTSTART;TZID=Europe/London:20270513T190000
DTEND;TZID=Europe/London:20270513T220000
DTSTAMP:20260420T080049
CREATED:20240127T120633Z
LAST-MODIFIED:20240127T130626Z
UID:10005165-1810234800-1810245600@www.kilsbyvillagehall.co.uk
SUMMARY:W.I. Meeting
DESCRIPTION:
URL:https://www.kilsbyvillagehall.co.uk/event/w-i-meeting-4/2027-05-13/
END:VEVENT
BEGIN:VEVENT
DTSTART;TZID=Europe/London:20270610T190000
DTEND;TZID=Europe/London:20270610T220000
DTSTAMP:20260420T080049
CREATED:20240127T120633Z
LAST-MODIFIED:20240127T130626Z
UID:10005166-1812654000-1812664800@www.kilsbyvillagehall.co.uk
SUMMARY:W.I. Meeting
DESCRIPTION:
URL:https://www.kilsbyvillagehall.co.uk/event/w-i-meeting-4/2027-06-10/
END:VEVENT
BEGIN:VEVENT
DTSTART;TZID=Europe/London:20270708T190000
DTEND;TZID=Europe/London:20270708T220000
DTSTAMP:20260420T080049
CREATED:20240127T120633Z
LAST-MODIFIED:20240127T130626Z
UID:10005167-1815073200-1815084000@www.kilsbyvillagehall.co.uk
SUMMARY:W.I. Meeting
DESCRIPTION:
URL:https://www.kilsbyvillagehall.co.uk/event/w-i-meeting-4/2027-07-08/
END:VEVENT
BEGIN:VEVENT
DTSTART;TZID=Europe/London:20270812T190000
DTEND;TZID=Europe/London:20270812T220000
DTSTAMP:20260420T080049
CREATED:20240127T120633Z
LAST-MODIFIED:20240127T130626Z
UID:10005168-1818097200-1818108000@www.kilsbyvillagehall.co.uk
SUMMARY:W.I. Meeting
DESCRIPTION:
URL:https://www.kilsbyvillagehall.co.uk/event/w-i-meeting-4/2027-08-12/
END:VEVENT
BEGIN:VEVENT
DTSTART;TZID=Europe/London:20270909T190000
DTEND;TZID=Europe/London:20270909T220000
DTSTAMP:20260420T080049
CREATED:20240127T120633Z
LAST-MODIFIED:20240127T130626Z
UID:10005169-1820516400-1820527200@www.kilsbyvillagehall.co.uk
SUMMARY:W.I. Meeting
DESCRIPTION:
URL:https://www.kilsbyvillagehall.co.uk/event/w-i-meeting-4/2027-09-09/
END:VEVENT
BEGIN:VEVENT
DTSTART;TZID=Europe/London:20271014T190000
DTEND;TZID=Europe/London:20271014T220000
DTSTAMP:20260420T080049
CREATED:20240127T120633Z
LAST-MODIFIED:20240127T130626Z
UID:10005170-1823540400-1823551200@www.kilsbyvillagehall.co.uk
SUMMARY:W.I. Meeting
DESCRIPTION:
URL:https://www.kilsbyvillagehall.co.uk/event/w-i-meeting-4/2027-10-14/
END:VEVENT
BEGIN:VEVENT
DTSTART;TZID=Europe/London:20271111T190000
DTEND;TZID=Europe/London:20271111T220000
DTSTAMP:20260420T080049
CREATED:20240127T120633Z
LAST-MODIFIED:20240127T130626Z
UID:10005171-1825959600-1825970400@www.kilsbyvillagehall.co.uk
SUMMARY:W.I. Meeting
DESCRIPTION:
URL:https://www.kilsbyvillagehall.co.uk/event/w-i-meeting-4/2027-11-11/
END:VEVENT
BEGIN:VEVENT
DTSTART;TZID=Europe/London:20271209T190000
DTEND;TZID=Europe/London:20271209T220000
DTSTAMP:20260420T080049
CREATED:20240127T120633Z
LAST-MODIFIED:20240127T130626Z
UID:10005172-1828378800-1828389600@www.kilsbyvillagehall.co.uk
SUMMARY:W.I. Meeting
DESCRIPTION:
URL:https://www.kilsbyvillagehall.co.uk/event/w-i-meeting-4/2027-12-09/
END:VEVENT
BEGIN:VEVENT
DTSTART;TZID=Europe/London:20280113T190000
DTEND;TZID=Europe/London:20280113T220000
DTSTAMP:20260420T080049
CREATED:20240127T120633Z
LAST-MODIFIED:20240127T130626Z
UID:10005173-1831402800-1831413600@www.kilsbyvillagehall.co.uk
SUMMARY:W.I. Meeting
DESCRIPTION:
URL:https://www.kilsbyvillagehall.co.uk/event/w-i-meeting-4/2028-01-13/
END:VEVENT
BEGIN:VEVENT
DTSTART;TZID=Europe/London:20280210T190000
DTEND;TZID=Europe/London:20280210T220000
DTSTAMP:20260420T080049
CREATED:20240127T120633Z
LAST-MODIFIED:20240127T130626Z
UID:10005174-1833822000-1833832800@www.kilsbyvillagehall.co.uk
SUMMARY:W.I. Meeting
DESCRIPTION:
URL:https://www.kilsbyvillagehall.co.uk/event/w-i-meeting-4/2028-02-10/
END:VEVENT
BEGIN:VEVENT
DTSTART;TZID=Europe/London:20280309T190000
DTEND;TZID=Europe/London:20280309T220000
DTSTAMP:20260420T080049
CREATED:20240127T120633Z
LAST-MODIFIED:20240127T130626Z
UID:10005175-1836241200-1836252000@www.kilsbyvillagehall.co.uk
SUMMARY:W.I. Meeting
DESCRIPTION:
URL:https://www.kilsbyvillagehall.co.uk/event/w-i-meeting-4/2028-03-09/
END:VEVENT
BEGIN:VEVENT
DTSTART;TZID=Europe/London:20280413T190000
DTEND;TZID=Europe/London:20280413T220000
DTSTAMP:20260420T080049
CREATED:20240127T120633Z
LAST-MODIFIED:20240127T130626Z
UID:10005176-1839265200-1839276000@www.kilsbyvillagehall.co.uk
SUMMARY:W.I. Meeting
DESCRIPTION:
URL:https://www.kilsbyvillagehall.co.uk/event/w-i-meeting-4/2028-04-13/
END:VEVENT
BEGIN:VEVENT
DTSTART;TZID=Europe/London:20280511T190000
DTEND;TZID=Europe/London:20280511T220000
DTSTAMP:20260420T080049
CREATED:20240127T120633Z
LAST-MODIFIED:20240127T130626Z
UID:10005177-1841684400-1841695200@www.kilsbyvillagehall.co.uk
SUMMARY:W.I. Meeting
DESCRIPTION:
URL:https://www.kilsbyvillagehall.co.uk/event/w-i-meeting-4/2028-05-11/
END:VEVENT
BEGIN:VEVENT
DTSTART;TZID=Europe/London:20280608T190000
DTEND;TZID=Europe/London:20280608T220000
DTSTAMP:20260420T080049
CREATED:20240127T120633Z
LAST-MODIFIED:20240127T130626Z
UID:10005178-1844103600-1844114400@www.kilsbyvillagehall.co.uk
SUMMARY:W.I. Meeting
DESCRIPTION:
URL:https://www.kilsbyvillagehall.co.uk/event/w-i-meeting-4/2028-06-08/
END:VEVENT
BEGIN:VEVENT
DTSTART;TZID=Europe/London:20280713T190000
DTEND;TZID=Europe/London:20280713T220000
DTSTAMP:20260420T080049
CREATED:20240127T120633Z
LAST-MODIFIED:20240127T130626Z
UID:10005179-1847127600-1847138400@www.kilsbyvillagehall.co.uk
SUMMARY:W.I. Meeting
DESCRIPTION:
URL:https://www.kilsbyvillagehall.co.uk/event/w-i-meeting-4/2028-07-13/
END:VEVENT
BEGIN:VEVENT
DTSTART;TZID=Europe/London:20280810T190000
DTEND;TZID=Europe/London:20280810T220000
DTSTAMP:20260420T080049
CREATED:20240127T120633Z
LAST-MODIFIED:20240127T130626Z
UID:10005180-1849546800-1849557600@www.kilsbyvillagehall.co.uk
SUMMARY:W.I. Meeting
DESCRIPTION:
URL:https://www.kilsbyvillagehall.co.uk/event/w-i-meeting-4/2028-08-10/
END:VEVENT
BEGIN:VEVENT
DTSTART;TZID=Europe/London:20280914T190000
DTEND;TZID=Europe/London:20280914T220000
DTSTAMP:20260420T080049
CREATED:20240127T120633Z
LAST-MODIFIED:20240127T130626Z
UID:10005181-1852570800-1852581600@www.kilsbyvillagehall.co.uk
SUMMARY:W.I. Meeting
DESCRIPTION:
URL:https://www.kilsbyvillagehall.co.uk/event/w-i-meeting-4/2028-09-14/
END:VEVENT
BEGIN:VEVENT
DTSTART;TZID=Europe/London:20281012T190000
DTEND;TZID=Europe/London:20281012T220000
DTSTAMP:20260420T080049
CREATED:20240127T120633Z
LAST-MODIFIED:20240127T130626Z
UID:10005182-1854990000-1855000800@www.kilsbyvillagehall.co.uk
SUMMARY:W.I. Meeting
DESCRIPTION:
URL:https://www.kilsbyvillagehall.co.uk/event/w-i-meeting-4/2028-10-12/
END:VEVENT
END:VCALENDAR