BEGIN:VCALENDAR
VERSION:2.0
PRODID:-//Kilsby Village Hall - ECPv6.15.20//NONSGML v1.0//EN
CALSCALE:GREGORIAN
METHOD:PUBLISH
X-WR-CALNAME:Kilsby Village Hall
X-ORIGINAL-URL:https://www.kilsbyvillagehall.co.uk
X-WR-CALDESC:Events for Kilsby Village Hall
REFRESH-INTERVAL;VALUE=DURATION:PT1H
X-Robots-Tag:noindex
X-PUBLISHED-TTL:PT1H
BEGIN:VTIMEZONE
TZID:Europe/London
BEGIN:DAYLIGHT
TZOFFSETFROM:+0000
TZOFFSETTO:+0100
TZNAME:BST
DTSTART:20220327T010000
END:DAYLIGHT
BEGIN:STANDARD
TZOFFSETFROM:+0100
TZOFFSETTO:+0000
TZNAME:GMT
DTSTART:20221030T010000
END:STANDARD
BEGIN:DAYLIGHT
TZOFFSETFROM:+0000
TZOFFSETTO:+0100
TZNAME:BST
DTSTART:20230326T010000
END:DAYLIGHT
BEGIN:STANDARD
TZOFFSETFROM:+0100
TZOFFSETTO:+0000
TZNAME:GMT
DTSTART:20231029T010000
END:STANDARD
BEGIN:DAYLIGHT
TZOFFSETFROM:+0000
TZOFFSETTO:+0100
TZNAME:BST
DTSTART:20240331T010000
END:DAYLIGHT
BEGIN:STANDARD
TZOFFSETFROM:+0100
TZOFFSETTO:+0000
TZNAME:GMT
DTSTART:20241027T010000
END:STANDARD
END:VTIMEZONE
BEGIN:VEVENT
DTSTART;TZID=Europe/London:20231106T183000
DTEND;TZID=Europe/London:20231106T203000
DTSTAMP:20260422T094502
CREATED:20231001T092535Z
LAST-MODIFIED:20231001T092535Z
UID:10004163-1699295400-1699302600@www.kilsbyvillagehall.co.uk
SUMMARY:Pilates/Yoga
DESCRIPTION:
URL:https://www.kilsbyvillagehall.co.uk/event/pilates-yoga-45/
END:VEVENT
BEGIN:VEVENT
DTSTART;TZID=Europe/London:20231106T090000
DTEND;TZID=Europe/London:20231106T123000
DTSTAMP:20260422T094502
CREATED:20231001T092500Z
LAST-MODIFIED:20231001T092500Z
UID:10004162-1699261200-1699273800@www.kilsbyvillagehall.co.uk
SUMMARY:Toddlers Playtime
DESCRIPTION:
URL:https://www.kilsbyvillagehall.co.uk/event/toddlers-playtime-101/
END:VEVENT
BEGIN:VEVENT
DTSTART;TZID=Europe/London:20231105T090000
DTEND;TZID=Europe/London:20231105T110000
DTSTAMP:20260422T094502
CREATED:20231002T115153Z
LAST-MODIFIED:20231028T104812Z
UID:10004217-1699174800-1699182000@www.kilsbyvillagehall.co.uk
SUMMARY:Dog Training
DESCRIPTION:
URL:https://www.kilsbyvillagehall.co.uk/event/dog-training-139/
END:VEVENT
BEGIN:VEVENT
DTSTART;TZID=Europe/London:20231104T120000
DTEND;TZID=Europe/London:20231104T160000
DTSTAMP:20260422T094502
CREATED:20230927T144056Z
LAST-MODIFIED:20230927T144056Z
UID:10004150-1699099200-1699113600@www.kilsbyvillagehall.co.uk
SUMMARY:Private Booking
DESCRIPTION:
URL:https://www.kilsbyvillagehall.co.uk/event/private-booking-229/
END:VEVENT
BEGIN:VEVENT
DTSTART;TZID=Europe/London:20231103T190000
DTEND;TZID=Europe/London:20231103T213000
DTSTAMP:20260422T094502
CREATED:20230927T144024Z
LAST-MODIFIED:20230927T144024Z
UID:10004149-1699038000-1699047000@www.kilsbyvillagehall.co.uk
SUMMARY:Youth Club
DESCRIPTION:
URL:https://www.kilsbyvillagehall.co.uk/event/youth-club-87/
END:VEVENT
BEGIN:VEVENT
DTSTART;TZID=Europe/London:20231102T190000
DTEND;TZID=Europe/London:20231102T210000
DTSTAMP:20260422T094502
CREATED:20230929T084724Z
LAST-MODIFIED:20230929T084724Z
UID:10004160-1698951600-1698958800@www.kilsbyvillagehall.co.uk
SUMMARY:Self Defence. Kilsby Rm
DESCRIPTION:
URL:https://www.kilsbyvillagehall.co.uk/event/self-defence-kilsby-rm-13/
END:VEVENT
BEGIN:VEVENT
DTSTART;TZID=Europe/London:20231102T173000
DTEND;TZID=Europe/London:20231102T183000
DTSTAMP:20260422T094502
CREATED:20230927T143951Z
LAST-MODIFIED:20230927T143951Z
UID:10004148-1698946200-1698949800@www.kilsbyvillagehall.co.uk
SUMMARY:Dog Training
DESCRIPTION:
URL:https://www.kilsbyvillagehall.co.uk/event/dog-training-126/
END:VEVENT
BEGIN:VEVENT
DTSTART;TZID=Europe/London:20231102T150000
DTEND;TZID=Europe/London:20231102T160000
DTSTAMP:20260422T094502
CREATED:20230927T143919Z
LAST-MODIFIED:20230927T143919Z
UID:10004147-1698937200-1698940800@www.kilsbyvillagehall.co.uk
SUMMARY:Private Booking
DESCRIPTION:
URL:https://www.kilsbyvillagehall.co.uk/event/private-booking-228/
END:VEVENT
BEGIN:VEVENT
DTSTART;TZID=Europe/London:20231101T190000
DTEND;TZID=Europe/London:20231101T200000
DTSTAMP:20260422T094502
CREATED:20230927T143845Z
LAST-MODIFIED:20230927T143845Z
UID:10004146-1698865200-1698868800@www.kilsbyvillagehall.co.uk
SUMMARY:Yoga
DESCRIPTION:
URL:https://www.kilsbyvillagehall.co.uk/event/yoga-13/
END:VEVENT
BEGIN:VEVENT
DTSTART;TZID=Europe/London:20231101T130000
DTEND;TZID=Europe/London:20231101T150000
DTSTAMP:20260422T094502
CREATED:20230927T145726Z
LAST-MODIFIED:20230927T145726Z
UID:10004156-1698843600-1698850800@www.kilsbyvillagehall.co.uk
SUMMARY:Art Group. Kilsby Rm
DESCRIPTION:
URL:https://www.kilsbyvillagehall.co.uk/event/art-group-kilsby-rm-64/
END:VEVENT
BEGIN:VEVENT
DTSTART;TZID=Europe/London:20231101T093000
DTEND;TZID=Europe/London:20231101T123000
DTSTAMP:20260422T094502
CREATED:20231028T104932Z
LAST-MODIFIED:20231028T104932Z
UID:10004223-1698831000-1698841800@www.kilsbyvillagehall.co.uk
SUMMARY:Private Booking. Kilsby Rm
DESCRIPTION:
URL:https://www.kilsbyvillagehall.co.uk/event/private-booking-kilsby-rm-2/
END:VEVENT
BEGIN:VEVENT
DTSTART;TZID=Europe/London:20231031T193000
DTEND;TZID=Europe/London:20231031T203000
DTSTAMP:20260422T094502
CREATED:20230927T143813Z
LAST-MODIFIED:20230927T143813Z
UID:10004145-1698780600-1698784200@www.kilsbyvillagehall.co.uk
SUMMARY:Keep Fit
DESCRIPTION:
URL:https://www.kilsbyvillagehall.co.uk/event/keep-fit-56/
END:VEVENT
BEGIN:VEVENT
DTSTART;TZID=Europe/London:20231031T173000
DTEND;TZID=Europe/London:20231031T190000
DTSTAMP:20260422T094502
CREATED:20230929T084621Z
LAST-MODIFIED:20230929T084621Z
UID:10004159-1698773400-1698778800@www.kilsbyvillagehall.co.uk
SUMMARY:Dog Training
DESCRIPTION:
URL:https://www.kilsbyvillagehall.co.uk/event/dog-training-127/
END:VEVENT
BEGIN:VEVENT
DTSTART;TZID=Europe/London:20231031T140000
DTEND;TZID=Europe/London:20231031T160000
DTSTAMP:20260422T094502
CREATED:20230927T143743Z
LAST-MODIFIED:20230927T143743Z
UID:10004144-1698760800-1698768000@www.kilsbyvillagehall.co.uk
SUMMARY:Over 60's Table Tennis
DESCRIPTION:
URL:https://www.kilsbyvillagehall.co.uk/event/over-60s-table-tennis-110/
END:VEVENT
BEGIN:VEVENT
DTSTART;TZID=Europe/London:20231031T093000
DTEND;TZID=Europe/London:20231031T103000
DTSTAMP:20260422T094502
CREATED:20230927T143704Z
LAST-MODIFIED:20230927T143704Z
UID:10004143-1698744600-1698748200@www.kilsbyvillagehall.co.uk
SUMMARY:Mini Maestros
DESCRIPTION:
URL:https://www.kilsbyvillagehall.co.uk/event/mini-maestros-3/
END:VEVENT
BEGIN:VEVENT
DTSTART;TZID=Europe/London:20231030T193000
DTEND;TZID=Europe/London:20231030T210000
DTSTAMP:20260422T094502
CREATED:20231028T104135Z
LAST-MODIFIED:20231028T104135Z
UID:10004221-1698694200-1698699600@www.kilsbyvillagehall.co.uk
SUMMARY:KAG Meeting Kilsby Rm
DESCRIPTION:
URL:https://www.kilsbyvillagehall.co.uk/event/kag-meeting-kilsby-rm/
END:VEVENT
BEGIN:VEVENT
DTSTART;TZID=Europe/London:20231030T183000
DTEND;TZID=Europe/London:20231030T203000
DTSTAMP:20260422T094502
CREATED:20230927T143625Z
LAST-MODIFIED:20230927T143625Z
UID:10004142-1698690600-1698697800@www.kilsbyvillagehall.co.uk
SUMMARY:Pilates/Yoga
DESCRIPTION:
URL:https://www.kilsbyvillagehall.co.uk/event/pilates-yoga-44/
END:VEVENT
BEGIN:VEVENT
DTSTART;TZID=Europe/London:20231030T090000
DTEND;TZID=Europe/London:20231030T120000
DTSTAMP:20260422T094502
CREATED:20230927T143552Z
LAST-MODIFIED:20230927T143552Z
UID:10004141-1698656400-1698667200@www.kilsbyvillagehall.co.uk
SUMMARY:Toddlers Playtime
DESCRIPTION:
URL:https://www.kilsbyvillagehall.co.uk/event/toddlers-playtime-100/
END:VEVENT
BEGIN:VEVENT
DTSTART;TZID=Europe/London:20231029T110000
DTEND;TZID=Europe/London:20231029T160000
DTSTAMP:20260422T094502
CREATED:20230927T143509Z
LAST-MODIFIED:20230927T143509Z
UID:10004140-1698577200-1698595200@www.kilsbyvillagehall.co.uk
SUMMARY:Private Booking
DESCRIPTION:
URL:https://www.kilsbyvillagehall.co.uk/event/private-booking-227/
END:VEVENT
BEGIN:VEVENT
DTSTART;TZID=Europe/London:20231028T100000
DTEND;TZID=Europe/London:20231028T133000
DTSTAMP:20260422T094502
CREATED:20230927T143436Z
LAST-MODIFIED:20230927T143436Z
UID:10004139-1698487200-1698499800@www.kilsbyvillagehall.co.uk
SUMMARY:Private Booking
DESCRIPTION:
URL:https://www.kilsbyvillagehall.co.uk/event/private-booking-226/
END:VEVENT
BEGIN:VEVENT
DTSTART;TZID=Europe/London:20231026T173000
DTEND;TZID=Europe/London:20231026T183000
DTSTAMP:20260422T094502
CREATED:20230927T143401Z
LAST-MODIFIED:20230927T143401Z
UID:10004138-1698341400-1698345000@www.kilsbyvillagehall.co.uk
SUMMARY:Dog Training
DESCRIPTION:
URL:https://www.kilsbyvillagehall.co.uk/event/dog-training-125/
END:VEVENT
BEGIN:VEVENT
DTSTART;TZID=Europe/London:20231026T150000
DTEND;TZID=Europe/London:20231026T160000
DTSTAMP:20260422T094502
CREATED:20230927T143320Z
LAST-MODIFIED:20230927T143320Z
UID:10004137-1698332400-1698336000@www.kilsbyvillagehall.co.uk
SUMMARY:Private Booking
DESCRIPTION:
URL:https://www.kilsbyvillagehall.co.uk/event/private-booking-225/
END:VEVENT
BEGIN:VEVENT
DTSTART;TZID=Europe/London:20231025T190000
DTEND;TZID=Europe/London:20231025T200000
DTSTAMP:20260422T094502
CREATED:20230927T143240Z
LAST-MODIFIED:20230927T143240Z
UID:10004136-1698260400-1698264000@www.kilsbyvillagehall.co.uk
SUMMARY:Yoga
DESCRIPTION:
URL:https://www.kilsbyvillagehall.co.uk/event/yoga-12/
END:VEVENT
BEGIN:VEVENT
DTSTART;TZID=Europe/London:20231024T193000
DTEND;TZID=Europe/London:20231024T203000
DTSTAMP:20260422T094502
CREATED:20230927T143208Z
LAST-MODIFIED:20230927T143208Z
UID:10004135-1698175800-1698179400@www.kilsbyvillagehall.co.uk
SUMMARY:Keep Fit
DESCRIPTION:
URL:https://www.kilsbyvillagehall.co.uk/event/keep-fit-55/
END:VEVENT
BEGIN:VEVENT
DTSTART;TZID=Europe/London:20231024T173000
DTEND;TZID=Europe/London:20231024T190000
DTSTAMP:20260422T094502
CREATED:20230927T143133Z
LAST-MODIFIED:20230927T143133Z
UID:10004134-1698168600-1698174000@www.kilsbyvillagehall.co.uk
SUMMARY:Dog Training
DESCRIPTION:
URL:https://www.kilsbyvillagehall.co.uk/event/dog-training-124/
END:VEVENT
BEGIN:VEVENT
DTSTART;TZID=Europe/London:20231024T140000
DTEND;TZID=Europe/London:20231024T160000
DTSTAMP:20260422T094502
CREATED:20230927T143058Z
LAST-MODIFIED:20230927T143058Z
UID:10004133-1698156000-1698163200@www.kilsbyvillagehall.co.uk
SUMMARY:Over 60's Table Tennis
DESCRIPTION:
URL:https://www.kilsbyvillagehall.co.uk/event/over-60s-table-tennis-109/
END:VEVENT
BEGIN:VEVENT
DTSTART;TZID=Europe/London:20231023T183000
DTEND;TZID=Europe/London:20231023T203000
DTSTAMP:20260422T094502
CREATED:20230927T143016Z
LAST-MODIFIED:20230927T143016Z
UID:10004132-1698085800-1698093000@www.kilsbyvillagehall.co.uk
SUMMARY:Pilates/Yoga
DESCRIPTION:
URL:https://www.kilsbyvillagehall.co.uk/event/pilates-yoga-43/
END:VEVENT
BEGIN:VEVENT
DTSTART;TZID=Europe/London:20231022T140000
DTEND;TZID=Europe/London:20231022T180000
DTSTAMP:20260422T094502
CREATED:20230927T142918Z
LAST-MODIFIED:20230927T142918Z
UID:10004131-1697983200-1697997600@www.kilsbyvillagehall.co.uk
SUMMARY:Private Booking
DESCRIPTION:
URL:https://www.kilsbyvillagehall.co.uk/event/private-booking-224/
END:VEVENT
BEGIN:VEVENT
DTSTART;TZID=Europe/London:20231022T090000
DTEND;TZID=Europe/London:20231022T120000
DTSTAMP:20260422T094502
CREATED:20230927T142842Z
LAST-MODIFIED:20230927T142842Z
UID:10004130-1697965200-1697976000@www.kilsbyvillagehall.co.uk
SUMMARY:Dog Training
DESCRIPTION:
URL:https://www.kilsbyvillagehall.co.uk/event/dog-training-123/
END:VEVENT
BEGIN:VEVENT
DTSTART;TZID=Europe/London:20231021T150000
DTEND;TZID=Europe/London:20231021T200000
DTSTAMP:20260422T094502
CREATED:20230929T084527Z
LAST-MODIFIED:20230929T084527Z
UID:10004158-1697900400-1697918400@www.kilsbyvillagehall.co.uk
SUMMARY:Private Booking
DESCRIPTION:
URL:https://www.kilsbyvillagehall.co.uk/event/private-booking-230/
END:VEVENT
END:VCALENDAR