BEGIN:VCALENDAR
VERSION:2.0
PRODID:-//Kilsby Village Hall - ECPv6.15.20//NONSGML v1.0//EN
CALSCALE:GREGORIAN
METHOD:PUBLISH
X-WR-CALNAME:Kilsby Village Hall
X-ORIGINAL-URL:https://www.kilsbyvillagehall.co.uk
X-WR-CALDESC:Events for Kilsby Village Hall
REFRESH-INTERVAL;VALUE=DURATION:PT1H
X-Robots-Tag:noindex
X-PUBLISHED-TTL:PT1H
BEGIN:VTIMEZONE
TZID:Europe/London
BEGIN:DAYLIGHT
TZOFFSETFROM:+0000
TZOFFSETTO:+0100
TZNAME:BST
DTSTART:20220327T010000
END:DAYLIGHT
BEGIN:STANDARD
TZOFFSETFROM:+0100
TZOFFSETTO:+0000
TZNAME:GMT
DTSTART:20221030T010000
END:STANDARD
BEGIN:DAYLIGHT
TZOFFSETFROM:+0000
TZOFFSETTO:+0100
TZNAME:BST
DTSTART:20230326T010000
END:DAYLIGHT
BEGIN:STANDARD
TZOFFSETFROM:+0100
TZOFFSETTO:+0000
TZNAME:GMT
DTSTART:20231029T010000
END:STANDARD
BEGIN:DAYLIGHT
TZOFFSETFROM:+0000
TZOFFSETTO:+0100
TZNAME:BST
DTSTART:20240331T010000
END:DAYLIGHT
BEGIN:STANDARD
TZOFFSETFROM:+0100
TZOFFSETTO:+0000
TZNAME:GMT
DTSTART:20241027T010000
END:STANDARD
END:VTIMEZONE
BEGIN:VEVENT
DTSTART;TZID=Europe/London:20231119T143000
DTEND;TZID=Europe/London:20231119T183000
DTSTAMP:20260422T045834
CREATED:20231106T134040Z
LAST-MODIFIED:20231106T134040Z
UID:10004224-1700404200-1700418600@www.kilsbyvillagehall.co.uk
SUMMARY:Private Booking. Kilsby Rm
DESCRIPTION:
URL:https://www.kilsbyvillagehall.co.uk/event/private-booking-kilsby-rm-3/
END:VEVENT
BEGIN:VEVENT
DTSTART;TZID=Europe/London:20231119T090000
DTEND;TZID=Europe/London:20231119T110000
DTSTAMP:20260422T045834
CREATED:20231001T093937Z
LAST-MODIFIED:20231028T104533Z
UID:10004185-1700384400-1700391600@www.kilsbyvillagehall.co.uk
SUMMARY:Dog Training
DESCRIPTION:
URL:https://www.kilsbyvillagehall.co.uk/event/dog-training-133/
END:VEVENT
BEGIN:VEVENT
DTSTART;TZID=Europe/London:20231118T130000
DTEND;TZID=Europe/London:20231118T163000
DTSTAMP:20260422T045834
CREATED:20231012T212743Z
LAST-MODIFIED:20231012T212743Z
UID:10004219-1700312400-1700325000@www.kilsbyvillagehall.co.uk
SUMMARY:Private Bookings
DESCRIPTION:
URL:https://www.kilsbyvillagehall.co.uk/event/private-bookings-2/
END:VEVENT
BEGIN:VEVENT
DTSTART;TZID=Europe/London:20231117T190000
DTEND;TZID=Europe/London:20231117T213000
DTSTAMP:20260422T045834
CREATED:20231001T093911Z
LAST-MODIFIED:20231001T093911Z
UID:10004184-1700247600-1700256600@www.kilsbyvillagehall.co.uk
SUMMARY:Youth Club
DESCRIPTION:
URL:https://www.kilsbyvillagehall.co.uk/event/youth-club-88/
END:VEVENT
BEGIN:VEVENT
DTSTART;TZID=Europe/London:20231116T190000
DTEND;TZID=Europe/London:20231116T210000
DTSTAMP:20260422T045834
CREATED:20231001T100537Z
LAST-MODIFIED:20231001T100537Z
UID:10004211-1700161200-1700168400@www.kilsbyvillagehall.co.uk
SUMMARY:History Group. Kilsby Rm
DESCRIPTION:
URL:https://www.kilsbyvillagehall.co.uk/event/history-group-kilsby-rm-3/
END:VEVENT
BEGIN:VEVENT
DTSTART;TZID=Europe/London:20231116T190000
DTEND;TZID=Europe/London:20231116T210000
DTSTAMP:20260422T045834
CREATED:20231001T093832Z
LAST-MODIFIED:20231001T093832Z
UID:10004183-1700161200-1700168400@www.kilsbyvillagehall.co.uk
SUMMARY:Self Defence
DESCRIPTION:
URL:https://www.kilsbyvillagehall.co.uk/event/self-defence-29/
END:VEVENT
BEGIN:VEVENT
DTSTART;TZID=Europe/London:20231116T173000
DTEND;TZID=Europe/London:20231116T183000
DTSTAMP:20260422T045834
CREATED:20231001T093756Z
LAST-MODIFIED:20231001T093756Z
UID:10004182-1700155800-1700159400@www.kilsbyvillagehall.co.uk
SUMMARY:Dog Training
DESCRIPTION:
URL:https://www.kilsbyvillagehall.co.uk/event/dog-training-132/
END:VEVENT
BEGIN:VEVENT
DTSTART;TZID=Europe/London:20231116T150000
DTEND;TZID=Europe/London:20231116T160000
DTSTAMP:20260422T045834
CREATED:20231001T093641Z
LAST-MODIFIED:20231001T093729Z
UID:10004181-1700146800-1700150400@www.kilsbyvillagehall.co.uk
SUMMARY:Private Booking
DESCRIPTION:
URL:https://www.kilsbyvillagehall.co.uk/event/yoga-15/
END:VEVENT
BEGIN:VEVENT
DTSTART;TZID=Europe/London:20231115T130000
DTEND;TZID=Europe/London:20231115T150000
DTSTAMP:20260422T045834
CREATED:20231001T100500Z
LAST-MODIFIED:20231001T100500Z
UID:10004210-1700053200-1700060400@www.kilsbyvillagehall.co.uk
SUMMARY:Art Group. Kilsby Rm
DESCRIPTION:
URL:https://www.kilsbyvillagehall.co.uk/event/art-group-kilsby-rm-66/
END:VEVENT
BEGIN:VEVENT
DTSTART;TZID=Europe/London:20231114T193000
DTEND;TZID=Europe/London:20231114T203000
DTSTAMP:20260422T045834
CREATED:20231001T093542Z
LAST-MODIFIED:20231001T093542Z
UID:10004180-1699990200-1699993800@www.kilsbyvillagehall.co.uk
SUMMARY:Keep Fit
DESCRIPTION:
URL:https://www.kilsbyvillagehall.co.uk/event/keep-fit-58/
END:VEVENT
BEGIN:VEVENT
DTSTART;TZID=Europe/London:20231114T190000
DTEND;TZID=Europe/London:20231114T220000
DTSTAMP:20260422T045834
CREATED:20231001T100430Z
LAST-MODIFIED:20231028T125855Z
UID:10004209-1699988400-1699999200@www.kilsbyvillagehall.co.uk
SUMMARY:P.C. Meeting. Kilsby Rm
DESCRIPTION:
URL:https://www.kilsbyvillagehall.co.uk/event/p-c-meeting-kilsby-rm-3/
END:VEVENT
BEGIN:VEVENT
DTSTART;TZID=Europe/London:20231114T173000
DTEND;TZID=Europe/London:20231114T190000
DTSTAMP:20260422T045834
CREATED:20231001T093506Z
LAST-MODIFIED:20231001T093506Z
UID:10004179-1699983000-1699988400@www.kilsbyvillagehall.co.uk
SUMMARY:Dog Training
DESCRIPTION:
URL:https://www.kilsbyvillagehall.co.uk/event/dog-training-131/
END:VEVENT
BEGIN:VEVENT
DTSTART;TZID=Europe/London:20231114T140000
DTEND;TZID=Europe/London:20231114T160000
DTSTAMP:20260422T045834
CREATED:20231001T093438Z
LAST-MODIFIED:20231001T093438Z
UID:10004178-1699970400-1699977600@www.kilsbyvillagehall.co.uk
SUMMARY:Over 60's Table Tennis
DESCRIPTION:
URL:https://www.kilsbyvillagehall.co.uk/event/over-60s-table-tennis-112/
END:VEVENT
BEGIN:VEVENT
DTSTART;TZID=Europe/London:20231114T093000
DTEND;TZID=Europe/London:20231114T103000
DTSTAMP:20260422T045834
CREATED:20231001T093403Z
LAST-MODIFIED:20231001T093403Z
UID:10004177-1699954200-1699957800@www.kilsbyvillagehall.co.uk
SUMMARY:Mini Maetros
DESCRIPTION:
URL:https://www.kilsbyvillagehall.co.uk/event/mini-maetros-3/
END:VEVENT
BEGIN:VEVENT
DTSTART;TZID=Europe/London:20231113T190000
DTEND;TZID=Europe/London:20231113T210000
DTSTAMP:20260422T045834
CREATED:20231001T100350Z
LAST-MODIFIED:20231001T100350Z
UID:10004208-1699902000-1699909200@www.kilsbyvillagehall.co.uk
SUMMARY:Village Hall Meeting. Kilsby Rm
DESCRIPTION:
URL:https://www.kilsbyvillagehall.co.uk/event/village-hall-meeting-kilsby-rm-11/
END:VEVENT
BEGIN:VEVENT
DTSTART;TZID=Europe/London:20231113T183000
DTEND;TZID=Europe/London:20231113T203000
DTSTAMP:20260422T045834
CREATED:20231001T093333Z
LAST-MODIFIED:20231001T093333Z
UID:10004176-1699900200-1699907400@www.kilsbyvillagehall.co.uk
SUMMARY:Pilates/Yoga
DESCRIPTION:
URL:https://www.kilsbyvillagehall.co.uk/event/pilates-yoga-46/
END:VEVENT
BEGIN:VEVENT
DTSTART;TZID=Europe/London:20231113T090000
DTEND;TZID=Europe/London:20231113T120000
DTSTAMP:20260422T045834
CREATED:20231001T093254Z
LAST-MODIFIED:20231001T093254Z
UID:10004175-1699866000-1699876800@www.kilsbyvillagehall.co.uk
SUMMARY:Toddlers Playtime
DESCRIPTION:
URL:https://www.kilsbyvillagehall.co.uk/event/toddlers-playtime-102/
END:VEVENT
BEGIN:VEVENT
DTSTART;TZID=Europe/London:20231112T090000
DTEND;TZID=Europe/London:20231112T110000
DTSTAMP:20260422T045834
CREATED:20231001T093223Z
LAST-MODIFIED:20231028T104721Z
UID:10004174-1699779600-1699786800@www.kilsbyvillagehall.co.uk
SUMMARY:Dog Training
DESCRIPTION:
URL:https://www.kilsbyvillagehall.co.uk/event/dog-training-130/
END:VEVENT
BEGIN:VEVENT
DTSTART;TZID=Europe/London:20231111T130000
DTEND;TZID=Europe/London:20231111T170000
DTSTAMP:20260422T045834
CREATED:20231001T093126Z
LAST-MODIFIED:20231001T093126Z
UID:10004173-1699707600-1699722000@www.kilsbyvillagehall.co.uk
SUMMARY:Private Booking
DESCRIPTION:
URL:https://www.kilsbyvillagehall.co.uk/event/private-booking-233/
END:VEVENT
BEGIN:VEVENT
DTSTART;TZID=Europe/London:20231110T160000
DTEND;TZID=Europe/London:20231111T213000
DTSTAMP:20260422T045834
CREATED:20231001T093055Z
LAST-MODIFIED:20231001T093055Z
UID:10004172-1699632000-1699738200@www.kilsbyvillagehall.co.uk
SUMMARY:Scouts Overnight Walking Venue
DESCRIPTION:
URL:https://www.kilsbyvillagehall.co.uk/event/scouts-overnight-walking-venue/
END:VEVENT
BEGIN:VEVENT
DTSTART;TZID=Europe/London:20231109T190000
DTEND;TZID=Europe/London:20231109T220000
DTSTAMP:20260422T045834
CREATED:20231001T093004Z
LAST-MODIFIED:20231001T093004Z
UID:10004171-1699556400-1699567200@www.kilsbyvillagehall.co.uk
SUMMARY:W.I.
DESCRIPTION:
URL:https://www.kilsbyvillagehall.co.uk/event/w-i-29/
END:VEVENT
BEGIN:VEVENT
DTSTART;TZID=Europe/London:20231109T190000
DTEND;TZID=Europe/London:20231109T213000
DTSTAMP:20260422T045834
CREATED:20231001T100239Z
LAST-MODIFIED:20231001T100239Z
UID:10004207-1699556400-1699565400@www.kilsbyvillagehall.co.uk
SUMMARY:Self Defence. Kilsby Rm
DESCRIPTION:
URL:https://www.kilsbyvillagehall.co.uk/event/self-defence-kilsby-rm-14/
END:VEVENT
BEGIN:VEVENT
DTSTART;TZID=Europe/London:20231109T173000
DTEND;TZID=Europe/London:20231109T183000
DTSTAMP:20260422T045834
CREATED:20231001T092930Z
LAST-MODIFIED:20231001T092930Z
UID:10004170-1699551000-1699554600@www.kilsbyvillagehall.co.uk
SUMMARY:Dog Training
DESCRIPTION:
URL:https://www.kilsbyvillagehall.co.uk/event/dog-training-129/
END:VEVENT
BEGIN:VEVENT
DTSTART;TZID=Europe/London:20231109T150000
DTEND;TZID=Europe/London:20231109T160000
DTSTAMP:20260422T045834
CREATED:20231001T092857Z
LAST-MODIFIED:20231001T092857Z
UID:10004169-1699542000-1699545600@www.kilsbyvillagehall.co.uk
SUMMARY:Private Booking
DESCRIPTION:
URL:https://www.kilsbyvillagehall.co.uk/event/private-booking-232/
END:VEVENT
BEGIN:VEVENT
DTSTART;TZID=Europe/London:20231108T193000
DTEND;TZID=Europe/London:20231108T200000
DTSTAMP:20260422T045834
CREATED:20231001T092821Z
LAST-MODIFIED:20231001T092821Z
UID:10004168-1699471800-1699473600@www.kilsbyvillagehall.co.uk
SUMMARY:Yoga
DESCRIPTION:
URL:https://www.kilsbyvillagehall.co.uk/event/yoga-14/
END:VEVENT
BEGIN:VEVENT
DTSTART;TZID=Europe/London:20231108T130000
DTEND;TZID=Europe/London:20231108T150000
DTSTAMP:20260422T045834
CREATED:20231001T100202Z
LAST-MODIFIED:20231001T100202Z
UID:10004206-1699448400-1699455600@www.kilsbyvillagehall.co.uk
SUMMARY:Art Group. Kilsby Rm
DESCRIPTION:
URL:https://www.kilsbyvillagehall.co.uk/event/art-group-kilsby-rm-65/
END:VEVENT
BEGIN:VEVENT
DTSTART;TZID=Europe/London:20231107T140000
DTEND;TZID=Europe/London:20231107T160000
DTSTAMP:20260422T045834
CREATED:20231001T092653Z
LAST-MODIFIED:20231001T092653Z
UID:10004165-1699365600-1699372800@www.kilsbyvillagehall.co.uk
SUMMARY:Over 60's Table Tennis
DESCRIPTION:
URL:https://www.kilsbyvillagehall.co.uk/event/over-60s-table-tennis-111/
END:VEVENT
BEGIN:VEVENT
DTSTART;TZID=Europe/London:20231107T093000
DTEND;TZID=Europe/London:20231107T103000
DTSTAMP:20260422T045834
CREATED:20231001T092616Z
LAST-MODIFIED:20231001T092616Z
UID:10004164-1699349400-1699353000@www.kilsbyvillagehall.co.uk
SUMMARY:Mini Maetros
DESCRIPTION:
URL:https://www.kilsbyvillagehall.co.uk/event/mini-maetros-2/
END:VEVENT
BEGIN:VEVENT
DTSTART;TZID=Europe/London:20231107T073000
DTEND;TZID=Europe/London:20231107T203000
DTSTAMP:20260422T045834
CREATED:20231001T092749Z
LAST-MODIFIED:20231001T092749Z
UID:10004167-1699342200-1699389000@www.kilsbyvillagehall.co.uk
SUMMARY:Keep Fit
DESCRIPTION:
URL:https://www.kilsbyvillagehall.co.uk/event/keep-fit-57/
END:VEVENT
BEGIN:VEVENT
DTSTART;TZID=Europe/London:20231107T053000
DTEND;TZID=Europe/London:20231107T190000
DTSTAMP:20260422T045834
CREATED:20231001T092725Z
LAST-MODIFIED:20231001T092725Z
UID:10004166-1699335000-1699383600@www.kilsbyvillagehall.co.uk
SUMMARY:Dog Training
DESCRIPTION:
URL:https://www.kilsbyvillagehall.co.uk/event/dog-training-128/
END:VEVENT
END:VCALENDAR