BEGIN:VCALENDAR
VERSION:2.0
PRODID:-//Kilsby Village Hall - ECPv6.15.20//NONSGML v1.0//EN
CALSCALE:GREGORIAN
METHOD:PUBLISH
X-ORIGINAL-URL:https://www.kilsbyvillagehall.co.uk
X-WR-CALDESC:Events for Kilsby Village Hall
REFRESH-INTERVAL;VALUE=DURATION:PT1H
X-Robots-Tag:noindex
X-PUBLISHED-TTL:PT1H
BEGIN:VTIMEZONE
TZID:Europe/London
BEGIN:DAYLIGHT
TZOFFSETFROM:+0000
TZOFFSETTO:+0100
TZNAME:BST
DTSTART:20280326T010000
END:DAYLIGHT
BEGIN:STANDARD
TZOFFSETFROM:+0100
TZOFFSETTO:+0000
TZNAME:GMT
DTSTART:20281029T010000
END:STANDARD
BEGIN:DAYLIGHT
TZOFFSETFROM:+0000
TZOFFSETTO:+0100
TZNAME:BST
DTSTART:20290325T010000
END:DAYLIGHT
BEGIN:STANDARD
TZOFFSETFROM:+0100
TZOFFSETTO:+0000
TZNAME:GMT
DTSTART:20291028T010000
END:STANDARD
BEGIN:DAYLIGHT
TZOFFSETFROM:+0000
TZOFFSETTO:+0100
TZNAME:BST
DTSTART:20300331T010000
END:DAYLIGHT
BEGIN:STANDARD
TZOFFSETFROM:+0100
TZOFFSETTO:+0000
TZNAME:GMT
DTSTART:20301027T010000
END:STANDARD
END:VTIMEZONE
BEGIN:VEVENT
DTSTART;TZID=Europe/London:20290712T190000
DTEND;TZID=Europe/London:20290712T220000
DTSTAMP:20260420T004730
CREATED:20240127T120633Z
LAST-MODIFIED:20240127T130626Z
UID:10006683-1878577200-1878588000@www.kilsbyvillagehall.co.uk
SUMMARY:W.I. Meeting
DESCRIPTION:
URL:https://www.kilsbyvillagehall.co.uk/event/w-i-meeting-4/2029-07-12/
END:VEVENT
BEGIN:VEVENT
DTSTART;TZID=Europe/London:20290809T190000
DTEND;TZID=Europe/London:20290809T220000
DTSTAMP:20260420T004730
CREATED:20240127T120633Z
LAST-MODIFIED:20240127T130626Z
UID:10006684-1880996400-1881007200@www.kilsbyvillagehall.co.uk
SUMMARY:W.I. Meeting
DESCRIPTION:
URL:https://www.kilsbyvillagehall.co.uk/event/w-i-meeting-4/2029-08-09/
END:VEVENT
BEGIN:VEVENT
DTSTART;TZID=Europe/London:20290913T190000
DTEND;TZID=Europe/London:20290913T220000
DTSTAMP:20260420T004730
CREATED:20240127T120633Z
LAST-MODIFIED:20240127T130626Z
UID:10006685-1884020400-1884031200@www.kilsbyvillagehall.co.uk
SUMMARY:W.I. Meeting
DESCRIPTION:
URL:https://www.kilsbyvillagehall.co.uk/event/w-i-meeting-4/2029-09-13/
END:VEVENT
BEGIN:VEVENT
DTSTART;TZID=Europe/London:20291011T190000
DTEND;TZID=Europe/London:20291011T220000
DTSTAMP:20260420T004730
CREATED:20240127T120633Z
LAST-MODIFIED:20240127T130626Z
UID:10007002-1886439600-1886450400@www.kilsbyvillagehall.co.uk
SUMMARY:W.I. Meeting
DESCRIPTION:
URL:https://www.kilsbyvillagehall.co.uk/event/w-i-meeting-4/2029-10-11/
END:VEVENT
BEGIN:VEVENT
DTSTART;TZID=Europe/London:20291108T190000
DTEND;TZID=Europe/London:20291108T220000
DTSTAMP:20260420T004730
CREATED:20240127T120633Z
LAST-MODIFIED:20240127T130626Z
UID:10007003-1888858800-1888869600@www.kilsbyvillagehall.co.uk
SUMMARY:W.I. Meeting
DESCRIPTION:
URL:https://www.kilsbyvillagehall.co.uk/event/w-i-meeting-4/2029-11-08/
END:VEVENT
BEGIN:VEVENT
DTSTART;TZID=Europe/London:20291213T190000
DTEND;TZID=Europe/London:20291213T220000
DTSTAMP:20260420T004730
CREATED:20240127T120633Z
LAST-MODIFIED:20240127T130626Z
UID:10007004-1891882800-1891893600@www.kilsbyvillagehall.co.uk
SUMMARY:W.I. Meeting
DESCRIPTION:
URL:https://www.kilsbyvillagehall.co.uk/event/w-i-meeting-4/2029-12-13/
END:VEVENT
END:VCALENDAR