BEGIN:VCALENDAR
VERSION:2.0
PRODID:-//Kilsby Village Hall - ECPv6.15.20//NONSGML v1.0//EN
CALSCALE:GREGORIAN
METHOD:PUBLISH
X-WR-CALNAME:Kilsby Village Hall
X-ORIGINAL-URL:https://www.kilsbyvillagehall.co.uk
X-WR-CALDESC:Events for Kilsby Village Hall
REFRESH-INTERVAL;VALUE=DURATION:PT1H
X-Robots-Tag:noindex
X-PUBLISHED-TTL:PT1H
BEGIN:VTIMEZONE
TZID:Europe/London
BEGIN:DAYLIGHT
TZOFFSETFROM:+0000
TZOFFSETTO:+0100
TZNAME:BST
DTSTART:20220327T010000
END:DAYLIGHT
BEGIN:STANDARD
TZOFFSETFROM:+0100
TZOFFSETTO:+0000
TZNAME:GMT
DTSTART:20221030T010000
END:STANDARD
BEGIN:DAYLIGHT
TZOFFSETFROM:+0000
TZOFFSETTO:+0100
TZNAME:BST
DTSTART:20230326T010000
END:DAYLIGHT
BEGIN:STANDARD
TZOFFSETFROM:+0100
TZOFFSETTO:+0000
TZNAME:GMT
DTSTART:20231029T010000
END:STANDARD
BEGIN:DAYLIGHT
TZOFFSETFROM:+0000
TZOFFSETTO:+0100
TZNAME:BST
DTSTART:20240331T010000
END:DAYLIGHT
BEGIN:STANDARD
TZOFFSETFROM:+0100
TZOFFSETTO:+0000
TZNAME:GMT
DTSTART:20241027T010000
END:STANDARD
END:VTIMEZONE
BEGIN:VEVENT
DTSTART;TZID=Europe/London:20231128T193000
DTEND;TZID=Europe/London:20231128T203000
DTSTAMP:20260422T014028
CREATED:20231001T095022Z
LAST-MODIFIED:20231001T095022Z
UID:10004200-1701199800-1701203400@www.kilsbyvillagehall.co.uk
SUMMARY:Keep Fit
DESCRIPTION:
URL:https://www.kilsbyvillagehall.co.uk/event/keep-fit-59/
END:VEVENT
BEGIN:VEVENT
DTSTART;TZID=Europe/London:20231128T173000
DTEND;TZID=Europe/London:20231128T190000
DTSTAMP:20260422T014028
CREATED:20231001T094937Z
LAST-MODIFIED:20231001T094937Z
UID:10004199-1701192600-1701198000@www.kilsbyvillagehall.co.uk
SUMMARY:Dog Training
DESCRIPTION:
URL:https://www.kilsbyvillagehall.co.uk/event/dog-training-137/
END:VEVENT
BEGIN:VEVENT
DTSTART;TZID=Europe/London:20231128T140000
DTEND;TZID=Europe/London:20231128T160000
DTSTAMP:20260422T014028
CREATED:20231001T094910Z
LAST-MODIFIED:20231001T094910Z
UID:10004198-1701180000-1701187200@www.kilsbyvillagehall.co.uk
SUMMARY:Over 60's Table Tennis
DESCRIPTION:
URL:https://www.kilsbyvillagehall.co.uk/event/over-60s-table-tennis-114/
END:VEVENT
BEGIN:VEVENT
DTSTART;TZID=Europe/London:20231127T183000
DTEND;TZID=Europe/London:20231127T203000
DTSTAMP:20260422T014028
CREATED:20231001T094836Z
LAST-MODIFIED:20231001T094836Z
UID:10004197-1701109800-1701117000@www.kilsbyvillagehall.co.uk
SUMMARY:Pilates/Yoga
DESCRIPTION:
URL:https://www.kilsbyvillagehall.co.uk/event/pilates-yoga-48/
END:VEVENT
BEGIN:VEVENT
DTSTART;TZID=Europe/London:20231127T090000
DTEND;TZID=Europe/London:20231127T120000
DTSTAMP:20260422T014028
CREATED:20231111T115635Z
LAST-MODIFIED:20231111T115635Z
UID:10004260-1701075600-1701086400@www.kilsbyvillagehall.co.uk
SUMMARY:Kilsby KAG. Kilsby Rm
DESCRIPTION:
URL:https://www.kilsbyvillagehall.co.uk/event/kilsby-kag-kilsby-rm/
END:VEVENT
BEGIN:VEVENT
DTSTART;TZID=Europe/London:20231127T090000
DTEND;TZID=Europe/London:20231127T120000
DTSTAMP:20260422T014028
CREATED:20231001T094808Z
LAST-MODIFIED:20231001T094808Z
UID:10004196-1701075600-1701086400@www.kilsbyvillagehall.co.uk
SUMMARY:Toddlers Playtime
DESCRIPTION:
URL:https://www.kilsbyvillagehall.co.uk/event/toddlers-playtime-104/
END:VEVENT
BEGIN:VEVENT
DTSTART;TZID=Europe/London:20231126T090000
DTEND;TZID=Europe/London:20231126T110000
DTSTAMP:20260422T014028
CREATED:20231001T094739Z
LAST-MODIFIED:20231028T104431Z
UID:10004195-1700989200-1700996400@www.kilsbyvillagehall.co.uk
SUMMARY:Dog Training
DESCRIPTION:
URL:https://www.kilsbyvillagehall.co.uk/event/dog-training-136/
END:VEVENT
BEGIN:VEVENT
DTSTART;TZID=Europe/London:20231125T103000
DTEND;TZID=Europe/London:20231125T133000
DTSTAMP:20260422T014028
CREATED:20231012T090021Z
LAST-MODIFIED:20231012T090021Z
UID:10004218-1700908200-1700919000@www.kilsbyvillagehall.co.uk
SUMMARY:Private Booking
DESCRIPTION:
URL:https://www.kilsbyvillagehall.co.uk/event/private-booking-231/
END:VEVENT
BEGIN:VEVENT
DTSTART;TZID=Europe/London:20231123T190000
DTEND;TZID=Europe/London:20231123T210000
DTSTAMP:20260422T014028
CREATED:20231001T100655Z
LAST-MODIFIED:20231001T100655Z
UID:10004213-1700766000-1700773200@www.kilsbyvillagehall.co.uk
SUMMARY:Self Defence. Kilsby Rm
DESCRIPTION:
URL:https://www.kilsbyvillagehall.co.uk/event/self-defence-kilsby-rm-15/
END:VEVENT
BEGIN:VEVENT
DTSTART;TZID=Europe/London:20231123T173000
DTEND;TZID=Europe/London:20231123T183000
DTSTAMP:20260422T014028
CREATED:20231001T094655Z
LAST-MODIFIED:20231001T094655Z
UID:10004194-1700760600-1700764200@www.kilsbyvillagehall.co.uk
SUMMARY:Dog Training
DESCRIPTION:
URL:https://www.kilsbyvillagehall.co.uk/event/dog-training-135/
END:VEVENT
BEGIN:VEVENT
DTSTART;TZID=Europe/London:20231123T150000
DTEND;TZID=Europe/London:20231123T160000
DTSTAMP:20260422T014028
CREATED:20231001T094622Z
LAST-MODIFIED:20231001T094622Z
UID:10004193-1700751600-1700755200@www.kilsbyvillagehall.co.uk
SUMMARY:Private Booking
DESCRIPTION:
URL:https://www.kilsbyvillagehall.co.uk/event/private-booking-234/
END:VEVENT
BEGIN:VEVENT
DTSTART;TZID=Europe/London:20231122T190000
DTEND;TZID=Europe/London:20231122T200000
DTSTAMP:20260422T014028
CREATED:20231001T094549Z
LAST-MODIFIED:20231001T094549Z
UID:10004192-1700679600-1700683200@www.kilsbyvillagehall.co.uk
SUMMARY:Yoga
DESCRIPTION:
URL:https://www.kilsbyvillagehall.co.uk/event/yoga-16/
END:VEVENT
BEGIN:VEVENT
DTSTART;TZID=Europe/London:20231122T130000
DTEND;TZID=Europe/London:20231122T150000
DTSTAMP:20260422T014028
CREATED:20231001T100614Z
LAST-MODIFIED:20231001T100614Z
UID:10004212-1700658000-1700665200@www.kilsbyvillagehall.co.uk
SUMMARY:Art Group. Kilsby Rm
DESCRIPTION:
URL:https://www.kilsbyvillagehall.co.uk/event/art-group-kilsby-rm-67/
END:VEVENT
BEGIN:VEVENT
DTSTART;TZID=Europe/London:20231122T100000
DTEND;TZID=Europe/London:20231122T123000
DTSTAMP:20260422T014028
CREATED:20231028T104624Z
LAST-MODIFIED:20231028T104624Z
UID:10004222-1700647200-1700656200@www.kilsbyvillagehall.co.uk
SUMMARY:Guide Dog Training
DESCRIPTION:
URL:https://www.kilsbyvillagehall.co.uk/event/guide-dog-training-2/
END:VEVENT
BEGIN:VEVENT
DTSTART;TZID=Europe/London:20231121T193000
DTEND;TZID=Europe/London:20231121T220000
DTSTAMP:20260422T014028
CREATED:20231001T094514Z
LAST-MODIFIED:20231001T094514Z
UID:10004191-1700595000-1700604000@www.kilsbyvillagehall.co.uk
SUMMARY:Gardening AGM
DESCRIPTION:
URL:https://www.kilsbyvillagehall.co.uk/event/gardening-agm/
END:VEVENT
BEGIN:VEVENT
DTSTART;TZID=Europe/London:20231121T173000
DTEND;TZID=Europe/London:20231121T190000
DTSTAMP:20260422T014028
CREATED:20231001T094427Z
LAST-MODIFIED:20231001T094427Z
UID:10004190-1700587800-1700593200@www.kilsbyvillagehall.co.uk
SUMMARY:Dog Training
DESCRIPTION:
URL:https://www.kilsbyvillagehall.co.uk/event/dog-training-134/
END:VEVENT
BEGIN:VEVENT
DTSTART;TZID=Europe/London:20231121T140000
DTEND;TZID=Europe/London:20231121T160000
DTSTAMP:20260422T014028
CREATED:20231001T094359Z
LAST-MODIFIED:20231001T094359Z
UID:10004189-1700575200-1700582400@www.kilsbyvillagehall.co.uk
SUMMARY:Over 60's Table Tennis
DESCRIPTION:
URL:https://www.kilsbyvillagehall.co.uk/event/over-60s-table-tennis-113/
END:VEVENT
BEGIN:VEVENT
DTSTART;TZID=Europe/London:20231121T093000
DTEND;TZID=Europe/London:20231121T103000
DTSTAMP:20260422T014028
CREATED:20231001T094321Z
LAST-MODIFIED:20231001T094321Z
UID:10004188-1700559000-1700562600@www.kilsbyvillagehall.co.uk
SUMMARY:Mini Maetros
DESCRIPTION:
URL:https://www.kilsbyvillagehall.co.uk/event/mini-maetros-4/
END:VEVENT
BEGIN:VEVENT
DTSTART;TZID=Europe/London:20231120T183000
DTEND;TZID=Europe/London:20231120T203000
DTSTAMP:20260422T014028
CREATED:20231001T094253Z
LAST-MODIFIED:20231001T094253Z
UID:10004187-1700505000-1700512200@www.kilsbyvillagehall.co.uk
SUMMARY:Pilates/Yoga
DESCRIPTION:
URL:https://www.kilsbyvillagehall.co.uk/event/pilates-yoga-47/
END:VEVENT
BEGIN:VEVENT
DTSTART;TZID=Europe/London:20231120T090000
DTEND;TZID=Europe/London:20231120T120000
DTSTAMP:20260422T014028
CREATED:20231001T094225Z
LAST-MODIFIED:20231001T094225Z
UID:10004186-1700470800-1700481600@www.kilsbyvillagehall.co.uk
SUMMARY:Toddlers Playtime
DESCRIPTION:
URL:https://www.kilsbyvillagehall.co.uk/event/toddlers-playtime-103/
END:VEVENT
BEGIN:VEVENT
DTSTART;TZID=Europe/London:20231119T143000
DTEND;TZID=Europe/London:20231119T183000
DTSTAMP:20260422T014028
CREATED:20231106T134040Z
LAST-MODIFIED:20231106T134040Z
UID:10004224-1700404200-1700418600@www.kilsbyvillagehall.co.uk
SUMMARY:Private Booking. Kilsby Rm
DESCRIPTION:
URL:https://www.kilsbyvillagehall.co.uk/event/private-booking-kilsby-rm-3/
END:VEVENT
BEGIN:VEVENT
DTSTART;TZID=Europe/London:20231119T090000
DTEND;TZID=Europe/London:20231119T110000
DTSTAMP:20260422T014028
CREATED:20231001T093937Z
LAST-MODIFIED:20231028T104533Z
UID:10004185-1700384400-1700391600@www.kilsbyvillagehall.co.uk
SUMMARY:Dog Training
DESCRIPTION:
URL:https://www.kilsbyvillagehall.co.uk/event/dog-training-133/
END:VEVENT
BEGIN:VEVENT
DTSTART;TZID=Europe/London:20231118T130000
DTEND;TZID=Europe/London:20231118T163000
DTSTAMP:20260422T014028
CREATED:20231012T212743Z
LAST-MODIFIED:20231012T212743Z
UID:10004219-1700312400-1700325000@www.kilsbyvillagehall.co.uk
SUMMARY:Private Bookings
DESCRIPTION:
URL:https://www.kilsbyvillagehall.co.uk/event/private-bookings-2/
END:VEVENT
BEGIN:VEVENT
DTSTART;TZID=Europe/London:20231117T190000
DTEND;TZID=Europe/London:20231117T213000
DTSTAMP:20260422T014028
CREATED:20231001T093911Z
LAST-MODIFIED:20231001T093911Z
UID:10004184-1700247600-1700256600@www.kilsbyvillagehall.co.uk
SUMMARY:Youth Club
DESCRIPTION:
URL:https://www.kilsbyvillagehall.co.uk/event/youth-club-88/
END:VEVENT
BEGIN:VEVENT
DTSTART;TZID=Europe/London:20231116T190000
DTEND;TZID=Europe/London:20231116T210000
DTSTAMP:20260422T014028
CREATED:20231001T100537Z
LAST-MODIFIED:20231001T100537Z
UID:10004211-1700161200-1700168400@www.kilsbyvillagehall.co.uk
SUMMARY:History Group. Kilsby Rm
DESCRIPTION:
URL:https://www.kilsbyvillagehall.co.uk/event/history-group-kilsby-rm-3/
END:VEVENT
BEGIN:VEVENT
DTSTART;TZID=Europe/London:20231116T190000
DTEND;TZID=Europe/London:20231116T210000
DTSTAMP:20260422T014028
CREATED:20231001T093832Z
LAST-MODIFIED:20231001T093832Z
UID:10004183-1700161200-1700168400@www.kilsbyvillagehall.co.uk
SUMMARY:Self Defence
DESCRIPTION:
URL:https://www.kilsbyvillagehall.co.uk/event/self-defence-29/
END:VEVENT
BEGIN:VEVENT
DTSTART;TZID=Europe/London:20231116T173000
DTEND;TZID=Europe/London:20231116T183000
DTSTAMP:20260422T014028
CREATED:20231001T093756Z
LAST-MODIFIED:20231001T093756Z
UID:10004182-1700155800-1700159400@www.kilsbyvillagehall.co.uk
SUMMARY:Dog Training
DESCRIPTION:
URL:https://www.kilsbyvillagehall.co.uk/event/dog-training-132/
END:VEVENT
BEGIN:VEVENT
DTSTART;TZID=Europe/London:20231116T150000
DTEND;TZID=Europe/London:20231116T160000
DTSTAMP:20260422T014028
CREATED:20231001T093641Z
LAST-MODIFIED:20231001T093729Z
UID:10004181-1700146800-1700150400@www.kilsbyvillagehall.co.uk
SUMMARY:Private Booking
DESCRIPTION:
URL:https://www.kilsbyvillagehall.co.uk/event/yoga-15/
END:VEVENT
BEGIN:VEVENT
DTSTART;TZID=Europe/London:20231115T130000
DTEND;TZID=Europe/London:20231115T150000
DTSTAMP:20260422T014028
CREATED:20231001T100500Z
LAST-MODIFIED:20231001T100500Z
UID:10004210-1700053200-1700060400@www.kilsbyvillagehall.co.uk
SUMMARY:Art Group. Kilsby Rm
DESCRIPTION:
URL:https://www.kilsbyvillagehall.co.uk/event/art-group-kilsby-rm-66/
END:VEVENT
BEGIN:VEVENT
DTSTART;TZID=Europe/London:20231114T193000
DTEND;TZID=Europe/London:20231114T203000
DTSTAMP:20260422T014028
CREATED:20231001T093542Z
LAST-MODIFIED:20231001T093542Z
UID:10004180-1699990200-1699993800@www.kilsbyvillagehall.co.uk
SUMMARY:Keep Fit
DESCRIPTION:
URL:https://www.kilsbyvillagehall.co.uk/event/keep-fit-58/
END:VEVENT
END:VCALENDAR