BEGIN:VCALENDAR
VERSION:2.0
PRODID:-//Kilsby Village Hall - ECPv6.15.20//NONSGML v1.0//EN
CALSCALE:GREGORIAN
METHOD:PUBLISH
X-WR-CALNAME:Kilsby Village Hall
X-ORIGINAL-URL:https://www.kilsbyvillagehall.co.uk
X-WR-CALDESC:Events for Kilsby Village Hall
REFRESH-INTERVAL;VALUE=DURATION:PT1H
X-Robots-Tag:noindex
X-PUBLISHED-TTL:PT1H
BEGIN:VTIMEZONE
TZID:Europe/London
BEGIN:DAYLIGHT
TZOFFSETFROM:+0000
TZOFFSETTO:+0100
TZNAME:BST
DTSTART:20220327T010000
END:DAYLIGHT
BEGIN:STANDARD
TZOFFSETFROM:+0100
TZOFFSETTO:+0000
TZNAME:GMT
DTSTART:20221030T010000
END:STANDARD
BEGIN:DAYLIGHT
TZOFFSETFROM:+0000
TZOFFSETTO:+0100
TZNAME:BST
DTSTART:20230326T010000
END:DAYLIGHT
BEGIN:STANDARD
TZOFFSETFROM:+0100
TZOFFSETTO:+0000
TZNAME:GMT
DTSTART:20231029T010000
END:STANDARD
BEGIN:DAYLIGHT
TZOFFSETFROM:+0000
TZOFFSETTO:+0100
TZNAME:BST
DTSTART:20240331T010000
END:DAYLIGHT
BEGIN:STANDARD
TZOFFSETFROM:+0100
TZOFFSETTO:+0000
TZNAME:GMT
DTSTART:20241027T010000
END:STANDARD
END:VTIMEZONE
BEGIN:VEVENT
DTSTART;TZID=Europe/London:20231219T093000
DTEND;TZID=Europe/London:20231219T103000
DTSTAMP:20260421T204743
CREATED:20231106T140604Z
LAST-MODIFIED:20231106T140604Z
UID:10004258-1702978200-1702981800@www.kilsbyvillagehall.co.uk
SUMMARY:Mini Maestros
DESCRIPTION:
URL:https://www.kilsbyvillagehall.co.uk/event/mini-maestros-6/
END:VEVENT
BEGIN:VEVENT
DTSTART;TZID=Europe/London:20231218T183000
DTEND;TZID=Europe/London:20231218T203000
DTSTAMP:20260421T204743
CREATED:20231106T140039Z
LAST-MODIFIED:20231106T140039Z
UID:10004252-1702924200-1702931400@www.kilsbyvillagehall.co.uk
SUMMARY:Pilates/Yoga
DESCRIPTION:
URL:https://www.kilsbyvillagehall.co.uk/event/pilates-yoga-51/
END:VEVENT
BEGIN:VEVENT
DTSTART;TZID=Europe/London:20231218T090000
DTEND;TZID=Europe/London:20231218T120000
DTSTAMP:20260421T204743
CREATED:20231106T140008Z
LAST-MODIFIED:20231106T140008Z
UID:10004251-1702890000-1702900800@www.kilsbyvillagehall.co.uk
SUMMARY:Toddlers Playtime
DESCRIPTION:
URL:https://www.kilsbyvillagehall.co.uk/event/toddlers-playtime-107/
END:VEVENT
BEGIN:VEVENT
DTSTART;TZID=Europe/London:20231217T100000
DTEND;TZID=Europe/London:20231217T140000
DTSTAMP:20260421T204743
CREATED:20231106T135919Z
LAST-MODIFIED:20231106T135919Z
UID:10004250-1702807200-1702821600@www.kilsbyvillagehall.co.uk
SUMMARY:Private Booking
DESCRIPTION:
URL:https://www.kilsbyvillagehall.co.uk/event/private-booking-239/
END:VEVENT
BEGIN:VEVENT
DTSTART;TZID=Europe/London:20231216T120000
DTEND;TZID=Europe/London:20231216T190000
DTSTAMP:20260421T204743
CREATED:20231106T135817Z
LAST-MODIFIED:20231106T135817Z
UID:10004249-1702728000-1702753200@www.kilsbyvillagehall.co.uk
SUMMARY:Private Booking
DESCRIPTION:
URL:https://www.kilsbyvillagehall.co.uk/event/private-booking-238/
END:VEVENT
BEGIN:VEVENT
DTSTART;TZID=Europe/London:20231215T190000
DTEND;TZID=Europe/London:20231215T213000
DTSTAMP:20260421T204743
CREATED:20231106T135740Z
LAST-MODIFIED:20231106T135740Z
UID:10004248-1702666800-1702675800@www.kilsbyvillagehall.co.uk
SUMMARY:Youth Club
DESCRIPTION:
URL:https://www.kilsbyvillagehall.co.uk/event/youth-club-90/
END:VEVENT
BEGIN:VEVENT
DTSTART;TZID=Europe/London:20231214T190000
DTEND;TZID=Europe/London:20231214T210000
DTSTAMP:20260421T204743
CREATED:20231106T134359Z
LAST-MODIFIED:20231106T134359Z
UID:10004229-1702580400-1702587600@www.kilsbyvillagehall.co.uk
SUMMARY:Self Defence. Kilsby Rm
DESCRIPTION:
URL:https://www.kilsbyvillagehall.co.uk/event/self-defence-kilsby-rm-18/
END:VEVENT
BEGIN:VEVENT
DTSTART;TZID=Europe/London:20231214T150000
DTEND;TZID=Europe/London:20231214T223000
DTSTAMP:20260421T204743
CREATED:20231106T135658Z
LAST-MODIFIED:20231106T135658Z
UID:10004247-1702566000-1702593000@www.kilsbyvillagehall.co.uk
SUMMARY:W. I Christmas Party
DESCRIPTION:
URL:https://www.kilsbyvillagehall.co.uk/event/w-i-christmas-party/
END:VEVENT
BEGIN:VEVENT
DTSTART;TZID=Europe/London:20231212T193000
DTEND;TZID=Europe/London:20231212T203000
DTSTAMP:20260421T204743
CREATED:20231106T135535Z
LAST-MODIFIED:20231106T135535Z
UID:10004245-1702409400-1702413000@www.kilsbyvillagehall.co.uk
SUMMARY:Keep Fit
DESCRIPTION:
URL:https://www.kilsbyvillagehall.co.uk/event/keep-fit-61/
END:VEVENT
BEGIN:VEVENT
DTSTART;TZID=Europe/London:20231212T140000
DTEND;TZID=Europe/London:20231212T160000
DTSTAMP:20260421T204743
CREATED:20231106T135508Z
LAST-MODIFIED:20231106T135508Z
UID:10004244-1702389600-1702396800@www.kilsbyvillagehall.co.uk
SUMMARY:Over 60's Table Tennis
DESCRIPTION:
URL:https://www.kilsbyvillagehall.co.uk/event/over-60s-table-tennis-116/
END:VEVENT
BEGIN:VEVENT
DTSTART;TZID=Europe/London:20231212T093000
DTEND;TZID=Europe/London:20231212T103000
DTSTAMP:20260421T204743
CREATED:20231106T140540Z
LAST-MODIFIED:20231106T140540Z
UID:10004257-1702373400-1702377000@www.kilsbyvillagehall.co.uk
SUMMARY:Mini Maestros
DESCRIPTION:
URL:https://www.kilsbyvillagehall.co.uk/event/mini-maestros-5/
END:VEVENT
BEGIN:VEVENT
DTSTART;TZID=Europe/London:20231211T183000
DTEND;TZID=Europe/London:20231211T203000
DTSTAMP:20260421T204743
CREATED:20231106T135423Z
LAST-MODIFIED:20231106T135423Z
UID:10004243-1702319400-1702326600@www.kilsbyvillagehall.co.uk
SUMMARY:Pilates/Yoga
DESCRIPTION:
URL:https://www.kilsbyvillagehall.co.uk/event/pilates-yoga-50/
END:VEVENT
BEGIN:VEVENT
DTSTART;TZID=Europe/London:20231211T090000
DTEND;TZID=Europe/London:20231211T120000
DTSTAMP:20260421T204743
CREATED:20231106T135354Z
LAST-MODIFIED:20231106T135354Z
UID:10004242-1702285200-1702296000@www.kilsbyvillagehall.co.uk
SUMMARY:Toddlers Playtime
DESCRIPTION:
URL:https://www.kilsbyvillagehall.co.uk/event/toddlers-playtime-106/
END:VEVENT
BEGIN:VEVENT
DTSTART;TZID=Europe/London:20231210T090000
DTEND;TZID=Europe/London:20231210T110000
DTSTAMP:20260421T204743
CREATED:20231106T135307Z
LAST-MODIFIED:20231106T135307Z
UID:10004241-1702198800-1702206000@www.kilsbyvillagehall.co.uk
SUMMARY:Dog Training
DESCRIPTION:
URL:https://www.kilsbyvillagehall.co.uk/event/dog-training-142/
END:VEVENT
BEGIN:VEVENT
DTSTART;TZID=Europe/London:20231208T153000
DTEND;TZID=Europe/London:20231208T233000
DTSTAMP:20260421T204743
CREATED:20231106T135237Z
LAST-MODIFIED:20231106T135237Z
UID:10004240-1702049400-1702078200@www.kilsbyvillagehall.co.uk
SUMMARY:Jazz Club - Both Rooms
DESCRIPTION:
URL:https://www.kilsbyvillagehall.co.uk/event/jazz-club-both-rooms/
END:VEVENT
BEGIN:VEVENT
DTSTART;TZID=Europe/London:20231207T190000
DTEND;TZID=Europe/London:20231207T210000
DTSTAMP:20260421T204743
CREATED:20231106T134323Z
LAST-MODIFIED:20231106T134323Z
UID:10004228-1701975600-1701982800@www.kilsbyvillagehall.co.uk
SUMMARY:Self Defence. Kilsby Rm
DESCRIPTION:
URL:https://www.kilsbyvillagehall.co.uk/event/self-defence-kilsby-rm-17/
END:VEVENT
BEGIN:VEVENT
DTSTART;TZID=Europe/London:20231207T150000
DTEND;TZID=Europe/London:20231207T160000
DTSTAMP:20260421T204743
CREATED:20231106T135156Z
LAST-MODIFIED:20231106T135156Z
UID:10004239-1701961200-1701964800@www.kilsbyvillagehall.co.uk
SUMMARY:Private Booking.
DESCRIPTION:
URL:https://www.kilsbyvillagehall.co.uk/event/private-booking-237/
END:VEVENT
BEGIN:VEVENT
DTSTART;TZID=Europe/London:20231205T173000
DTEND;TZID=Europe/London:20231205T190000
DTSTAMP:20260421T204743
CREATED:20231106T134852Z
LAST-MODIFIED:20231106T134852Z
UID:10004235-1701797400-1701802800@www.kilsbyvillagehall.co.uk
SUMMARY:Dog Training
DESCRIPTION:
URL:https://www.kilsbyvillagehall.co.uk/event/dog-training-141/
END:VEVENT
BEGIN:VEVENT
DTSTART;TZID=Europe/London:20231205T140000
DTEND;TZID=Europe/London:20231205T160000
DTSTAMP:20260421T204743
CREATED:20231106T134808Z
LAST-MODIFIED:20231106T134808Z
UID:10004234-1701784800-1701792000@www.kilsbyvillagehall.co.uk
SUMMARY:Over 60's Table Tennis
DESCRIPTION:
URL:https://www.kilsbyvillagehall.co.uk/event/over-60s-table-tennis-115/
END:VEVENT
BEGIN:VEVENT
DTSTART;TZID=Europe/London:20231205T093000
DTEND;TZID=Europe/London:20231205T103000
DTSTAMP:20260421T204743
CREATED:20231106T135117Z
LAST-MODIFIED:20231106T135117Z
UID:10004238-1701768600-1701772200@www.kilsbyvillagehall.co.uk
SUMMARY:Mini Maestros
DESCRIPTION:
URL:https://www.kilsbyvillagehall.co.uk/event/mini-maestros-4/
END:VEVENT
BEGIN:VEVENT
DTSTART;TZID=Europe/London:20231204T183000
DTEND;TZID=Europe/London:20231204T203000
DTSTAMP:20260421T204743
CREATED:20231106T134732Z
LAST-MODIFIED:20231106T134732Z
UID:10004233-1701714600-1701721800@www.kilsbyvillagehall.co.uk
SUMMARY:Pilates/Yoga
DESCRIPTION:
URL:https://www.kilsbyvillagehall.co.uk/event/pilates-yoga-49/
END:VEVENT
BEGIN:VEVENT
DTSTART;TZID=Europe/London:20231204T090000
DTEND;TZID=Europe/London:20231204T120000
DTSTAMP:20260421T204743
CREATED:20231106T134656Z
LAST-MODIFIED:20231106T134656Z
UID:10004232-1701680400-1701691200@www.kilsbyvillagehall.co.uk
SUMMARY:Toddlers Playtime.
DESCRIPTION:
URL:https://www.kilsbyvillagehall.co.uk/event/toddlers-playtime-105/
END:VEVENT
BEGIN:VEVENT
DTSTART;TZID=Europe/London:20231203T090000
DTEND;TZID=Europe/London:20231203T110000
DTSTAMP:20260421T204743
CREATED:20231106T134601Z
LAST-MODIFIED:20231106T134601Z
UID:10004231-1701594000-1701601200@www.kilsbyvillagehall.co.uk
SUMMARY:Dog Training.
DESCRIPTION:
URL:https://www.kilsbyvillagehall.co.uk/event/dog-training-140/
END:VEVENT
BEGIN:VEVENT
DTSTART;TZID=Europe/London:20231202T110000
DTEND;TZID=Europe/London:20231202T150000
DTSTAMP:20260421T204743
CREATED:20231001T095335Z
LAST-MODIFIED:20231001T095335Z
UID:10004205-1701514800-1701529200@www.kilsbyvillagehall.co.uk
SUMMARY:Private Booking
DESCRIPTION:
URL:https://www.kilsbyvillagehall.co.uk/event/private-booking-236/
END:VEVENT
BEGIN:VEVENT
DTSTART;TZID=Europe/London:20231201T190000
DTEND;TZID=Europe/London:20231201T213000
DTSTAMP:20260421T204743
CREATED:20231001T095249Z
LAST-MODIFIED:20231001T095249Z
UID:10004204-1701457200-1701466200@www.kilsbyvillagehall.co.uk
SUMMARY:Youth Club
DESCRIPTION:
URL:https://www.kilsbyvillagehall.co.uk/event/youth-club-89/
END:VEVENT
BEGIN:VEVENT
DTSTART;TZID=Europe/London:20231130T190000
DTEND;TZID=Europe/London:20231130T210000
DTSTAMP:20260421T204743
CREATED:20231001T100909Z
LAST-MODIFIED:20231001T100909Z
UID:10004215-1701370800-1701378000@www.kilsbyvillagehall.co.uk
SUMMARY:Self Defence. Kilsby Rm
DESCRIPTION:
URL:https://www.kilsbyvillagehall.co.uk/event/self-defence-kilsby-rm-16/
END:VEVENT
BEGIN:VEVENT
DTSTART;TZID=Europe/London:20231130T173000
DTEND;TZID=Europe/London:20231130T183000
DTSTAMP:20260421T204743
CREATED:20231001T095210Z
LAST-MODIFIED:20231001T095210Z
UID:10004203-1701365400-1701369000@www.kilsbyvillagehall.co.uk
SUMMARY:Dog Training
DESCRIPTION:
URL:https://www.kilsbyvillagehall.co.uk/event/dog-training-138/
END:VEVENT
BEGIN:VEVENT
DTSTART;TZID=Europe/London:20231130T150000
DTEND;TZID=Europe/London:20231130T160000
DTSTAMP:20260421T204743
CREATED:20231001T095122Z
LAST-MODIFIED:20231001T095122Z
UID:10004202-1701356400-1701360000@www.kilsbyvillagehall.co.uk
SUMMARY:Private Booking
DESCRIPTION:
URL:https://www.kilsbyvillagehall.co.uk/event/private-booking-235/
END:VEVENT
BEGIN:VEVENT
DTSTART;TZID=Europe/London:20231129T130000
DTEND;TZID=Europe/London:20231129T150000
DTSTAMP:20260421T204743
CREATED:20231001T100733Z
LAST-MODIFIED:20231001T100733Z
UID:10004214-1701262800-1701270000@www.kilsbyvillagehall.co.uk
SUMMARY:Art Group. Kilsby Rm
DESCRIPTION:
URL:https://www.kilsbyvillagehall.co.uk/event/art-group-kilsby-rm-68/
END:VEVENT
BEGIN:VEVENT
DTSTART;TZID=Europe/London:20231128T193000
DTEND;TZID=Europe/London:20231128T213000
DTSTAMP:20260421T204743
CREATED:20231028T104040Z
LAST-MODIFIED:20231028T104040Z
UID:10004220-1701199800-1701207000@www.kilsbyvillagehall.co.uk
SUMMARY:Kilsby Climate Action Grp - Kilsby Rm
DESCRIPTION:
URL:https://www.kilsbyvillagehall.co.uk/event/kilsby-climate-action-grp-kilsby-rm/
END:VEVENT
END:VCALENDAR