BEGIN:VCALENDAR
VERSION:2.0
PRODID:-//Kilsby Village Hall - ECPv6.15.20//NONSGML v1.0//EN
CALSCALE:GREGORIAN
METHOD:PUBLISH
X-WR-CALNAME:Kilsby Village Hall
X-ORIGINAL-URL:https://www.kilsbyvillagehall.co.uk
X-WR-CALDESC:Events for Kilsby Village Hall
REFRESH-INTERVAL;VALUE=DURATION:PT1H
X-Robots-Tag:noindex
X-PUBLISHED-TTL:PT1H
BEGIN:VTIMEZONE
TZID:Europe/London
BEGIN:DAYLIGHT
TZOFFSETFROM:+0000
TZOFFSETTO:+0100
TZNAME:BST
DTSTART:20220327T010000
END:DAYLIGHT
BEGIN:STANDARD
TZOFFSETFROM:+0100
TZOFFSETTO:+0000
TZNAME:GMT
DTSTART:20221030T010000
END:STANDARD
BEGIN:DAYLIGHT
TZOFFSETFROM:+0000
TZOFFSETTO:+0100
TZNAME:BST
DTSTART:20230326T010000
END:DAYLIGHT
BEGIN:STANDARD
TZOFFSETFROM:+0100
TZOFFSETTO:+0000
TZNAME:GMT
DTSTART:20231029T010000
END:STANDARD
BEGIN:DAYLIGHT
TZOFFSETFROM:+0000
TZOFFSETTO:+0100
TZNAME:BST
DTSTART:20240331T010000
END:DAYLIGHT
BEGIN:STANDARD
TZOFFSETFROM:+0100
TZOFFSETTO:+0000
TZNAME:GMT
DTSTART:20241027T010000
END:STANDARD
BEGIN:DAYLIGHT
TZOFFSETFROM:+0000
TZOFFSETTO:+0100
TZNAME:BST
DTSTART:20250330T010000
END:DAYLIGHT
BEGIN:STANDARD
TZOFFSETFROM:+0100
TZOFFSETTO:+0000
TZNAME:GMT
DTSTART:20251026T010000
END:STANDARD
END:VTIMEZONE
BEGIN:VEVENT
DTSTART;TZID=Europe/London:20240110T130000
DTEND;TZID=Europe/London:20240110T150000
DTSTAMP:20260421T173736
CREATED:20231231T123902Z
LAST-MODIFIED:20231231T123902Z
UID:10004277-1704891600-1704898800@www.kilsbyvillagehall.co.uk
SUMMARY:Art Group. Kilsby Rm
DESCRIPTION:
URL:https://www.kilsbyvillagehall.co.uk/event/art-group-kilsby-rm-69/
END:VEVENT
BEGIN:VEVENT
DTSTART;TZID=Europe/London:20240109T190000
DTEND;TZID=Europe/London:20240109T213000
DTSTAMP:20260421T173736
CREATED:20231231T123823Z
LAST-MODIFIED:20231231T123823Z
UID:10004276-1704826800-1704835800@www.kilsbyvillagehall.co.uk
SUMMARY:P.C. Meeting. Kilsby Rm
DESCRIPTION:
URL:https://www.kilsbyvillagehall.co.uk/event/p-c-meeting-kilsby-rm-4/
END:VEVENT
BEGIN:VEVENT
DTSTART;TZID=Europe/London:20240109T140000
DTEND;TZID=Europe/London:20240109T160000
DTSTAMP:20260421T173736
CREATED:20231231T123745Z
LAST-MODIFIED:20231231T123745Z
UID:10004275-1704808800-1704816000@www.kilsbyvillagehall.co.uk
SUMMARY:Over 60's Table Tennis
DESCRIPTION:
URL:https://www.kilsbyvillagehall.co.uk/event/over-60s-table-tennis-120/
END:VEVENT
BEGIN:VEVENT
DTSTART;TZID=Europe/London:20240109T093000
DTEND;TZID=Europe/London:20240109T103000
DTSTAMP:20260421T173736
CREATED:20240102T104414Z
LAST-MODIFIED:20240102T104414Z
UID:10004303-1704792600-1704796200@www.kilsbyvillagehall.co.uk
SUMMARY:Mini Maestros
DESCRIPTION:
URL:https://www.kilsbyvillagehall.co.uk/event/mini-maestros-7/
END:VEVENT
BEGIN:VEVENT
DTSTART;TZID=Europe/London:20240108T180000
DTEND;TZID=Europe/London:20240108T203000
DTSTAMP:20260421T173736
CREATED:20231231T123259Z
LAST-MODIFIED:20240219T160546Z
UID:10004271-1704736800-1704745800@www.kilsbyvillagehall.co.uk
SUMMARY:Pilates/Yoga
DESCRIPTION:
URL:https://www.kilsbyvillagehall.co.uk/event/pilates-yoga-52/2024-01-08/2/
END:VEVENT
BEGIN:VEVENT
DTSTART;TZID=Europe/London:20240108T090000
DTEND;TZID=Europe/London:20240108T120000
DTSTAMP:20260421T173736
CREATED:20231231T123226Z
LAST-MODIFIED:20231231T123226Z
UID:10004270-1704704400-1704715200@www.kilsbyvillagehall.co.uk
SUMMARY:Toddlers Playtime
DESCRIPTION:
URL:https://www.kilsbyvillagehall.co.uk/event/toddlers-playtime-108/
END:VEVENT
BEGIN:VEVENT
DTSTART;TZID=Europe/London:20240108T080000
DTEND;TZID=Europe/London:20240108T170000
DTSTAMP:20260421T173736
CREATED:20231231T123259Z
LAST-MODIFIED:20240219T160546Z
UID:10005500-1704700800-1704733200@www.kilsbyvillagehall.co.uk
SUMMARY:Pilates/Yoga
DESCRIPTION:
URL:https://www.kilsbyvillagehall.co.uk/event/pilates-yoga-52/2024-01-08/1/
END:VEVENT
BEGIN:VEVENT
DTSTART;TZID=Europe/London:20240106T120000
DTEND;TZID=Europe/London:20240106T160000
DTSTAMP:20260421T173736
CREATED:20231127T153515Z
LAST-MODIFIED:20231127T153515Z
UID:10004263-1704542400-1704556800@www.kilsbyvillagehall.co.uk
SUMMARY:Private Booking
DESCRIPTION:
URL:https://www.kilsbyvillagehall.co.uk/event/private-booking-241/
END:VEVENT
BEGIN:VEVENT
DTSTART;TZID=Europe/London:20240104T190000
DTEND;TZID=Europe/London:20240104T210000
DTSTAMP:20260421T173736
CREATED:20231231T124928Z
LAST-MODIFIED:20231231T124928Z
UID:10004283-1704394800-1704402000@www.kilsbyvillagehall.co.uk
SUMMARY:Self Defence. Kilsby Rm
DESCRIPTION:
URL:https://www.kilsbyvillagehall.co.uk/event/self-defence-kilsby-rm-20/
END:VEVENT
BEGIN:VEVENT
DTSTART;TZID=Europe/London:20240104T150000
DTEND;TZID=Europe/London:20240104T160000
DTSTAMP:20260421T173736
CREATED:20231231T130501Z
LAST-MODIFIED:20231231T130501Z
UID:10004296-1704380400-1704384000@www.kilsbyvillagehall.co.uk
SUMMARY:Private Booking
DESCRIPTION:
URL:https://www.kilsbyvillagehall.co.uk/event/private-booking-244/
END:VEVENT
BEGIN:VEVENT
DTSTART;TZID=Europe/London:20240102T140000
DTEND;TZID=Europe/London:20240102T160000
DTSTAMP:20260421T173736
CREATED:20231231T123133Z
LAST-MODIFIED:20231231T123133Z
UID:10004269-1704204000-1704211200@www.kilsbyvillagehall.co.uk
SUMMARY:Over 60's Table Tennis
DESCRIPTION:
URL:https://www.kilsbyvillagehall.co.uk/event/over-60s-table-tennis-118/
END:VEVENT
BEGIN:VEVENT
DTSTART;TZID=Europe/London:20231231T140000
DTEND;TZID=Europe/London:20231231T160000
DTSTAMP:20260421T173736
CREATED:20231231T123330Z
LAST-MODIFIED:20231231T123330Z
UID:10004272-1704031200-1704038400@www.kilsbyvillagehall.co.uk
SUMMARY:Over 60's Table Tennis
DESCRIPTION:
URL:https://www.kilsbyvillagehall.co.uk/event/over-60s-table-tennis-119/
END:VEVENT
BEGIN:VEVENT
DTSTART;TZID=Europe/London:20231231T120000
DTEND;TZID=Europe/London:20231231T203000
DTSTAMP:20260421T173737
CREATED:20231118T122109Z
LAST-MODIFIED:20231118T122109Z
UID:10004262-1704024000-1704054600@www.kilsbyvillagehall.co.uk
SUMMARY:Booking
DESCRIPTION:
URL:https://www.kilsbyvillagehall.co.uk/event/booking/
END:VEVENT
BEGIN:VEVENT
DTSTART;TZID=Europe/London:20231230T100000
DTEND;TZID=Europe/London:20231230T180000
DTSTAMP:20260421T173737
CREATED:20231111T115913Z
LAST-MODIFIED:20231111T115913Z
UID:10004261-1703930400-1703959200@www.kilsbyvillagehall.co.uk
SUMMARY:Private Booking
DESCRIPTION:
URL:https://www.kilsbyvillagehall.co.uk/event/private-booking-240/
END:VEVENT
BEGIN:VEVENT
DTSTART;TZID=Europe/London:20231226T110000
DTEND;TZID=Europe/London:20231226T180000
DTSTAMP:20260421T173737
CREATED:20231203T143147Z
LAST-MODIFIED:20231203T143147Z
UID:10004265-1703588400-1703613600@www.kilsbyvillagehall.co.uk
SUMMARY:Private Booking
DESCRIPTION:
URL:https://www.kilsbyvillagehall.co.uk/event/private-booking-243/
END:VEVENT
BEGIN:VEVENT
DTSTART;TZID=Europe/London:20231221T190000
DTEND;TZID=Europe/London:20231221T210000
DTSTAMP:20260421T173737
CREATED:20231106T134431Z
LAST-MODIFIED:20231106T134431Z
UID:10004230-1703185200-1703192400@www.kilsbyvillagehall.co.uk
SUMMARY:Self Defence. Kilsby Rm
DESCRIPTION:
URL:https://www.kilsbyvillagehall.co.uk/event/self-defence-kilsby-rm-19/
END:VEVENT
BEGIN:VEVENT
DTSTART;TZID=Europe/London:20231221T150000
DTEND;TZID=Europe/London:20231221T160000
DTSTAMP:20260421T173737
CREATED:20231127T153641Z
LAST-MODIFIED:20231127T153641Z
UID:10004264-1703170800-1703174400@www.kilsbyvillagehall.co.uk
SUMMARY:Private Booking
DESCRIPTION:
URL:https://www.kilsbyvillagehall.co.uk/event/private-booking-242/
END:VEVENT
BEGIN:VEVENT
DTSTART;TZID=Europe/London:20231220T100000
DTEND;TZID=Europe/London:20231220T123000
DTSTAMP:20260421T173737
CREATED:20231106T140203Z
LAST-MODIFIED:20231106T140203Z
UID:10004255-1703066400-1703075400@www.kilsbyvillagehall.co.uk
SUMMARY:Guide Dog Training
DESCRIPTION:
URL:https://www.kilsbyvillagehall.co.uk/event/guide-dog-training-3/
END:VEVENT
BEGIN:VEVENT
DTSTART;TZID=Europe/London:20231219T193000
DTEND;TZID=Europe/London:20231219T203000
DTSTAMP:20260421T173737
CREATED:20231106T140134Z
LAST-MODIFIED:20231106T140134Z
UID:10004254-1703014200-1703017800@www.kilsbyvillagehall.co.uk
SUMMARY:Keep Fit
DESCRIPTION:
URL:https://www.kilsbyvillagehall.co.uk/event/keep-fit-62/
END:VEVENT
BEGIN:VEVENT
DTSTART;TZID=Europe/London:20231219T140000
DTEND;TZID=Europe/London:20231219T160000
DTSTAMP:20260421T173737
CREATED:20231106T140110Z
LAST-MODIFIED:20231106T140110Z
UID:10004253-1702994400-1703001600@www.kilsbyvillagehall.co.uk
SUMMARY:Over 60's Table Tennis
DESCRIPTION:
URL:https://www.kilsbyvillagehall.co.uk/event/over-60s-table-tennis-117/
END:VEVENT
BEGIN:VEVENT
DTSTART;TZID=Europe/London:20231219T093000
DTEND;TZID=Europe/London:20231219T103000
DTSTAMP:20260421T173737
CREATED:20231106T140604Z
LAST-MODIFIED:20231106T140604Z
UID:10004258-1702978200-1702981800@www.kilsbyvillagehall.co.uk
SUMMARY:Mini Maestros
DESCRIPTION:
URL:https://www.kilsbyvillagehall.co.uk/event/mini-maestros-6/
END:VEVENT
BEGIN:VEVENT
DTSTART;TZID=Europe/London:20231218T183000
DTEND;TZID=Europe/London:20231218T203000
DTSTAMP:20260421T173737
CREATED:20231106T140039Z
LAST-MODIFIED:20231106T140039Z
UID:10004252-1702924200-1702931400@www.kilsbyvillagehall.co.uk
SUMMARY:Pilates/Yoga
DESCRIPTION:
URL:https://www.kilsbyvillagehall.co.uk/event/pilates-yoga-51/
END:VEVENT
BEGIN:VEVENT
DTSTART;TZID=Europe/London:20231218T090000
DTEND;TZID=Europe/London:20231218T120000
DTSTAMP:20260421T173737
CREATED:20231106T140008Z
LAST-MODIFIED:20231106T140008Z
UID:10004251-1702890000-1702900800@www.kilsbyvillagehall.co.uk
SUMMARY:Toddlers Playtime
DESCRIPTION:
URL:https://www.kilsbyvillagehall.co.uk/event/toddlers-playtime-107/
END:VEVENT
BEGIN:VEVENT
DTSTART;TZID=Europe/London:20231217T100000
DTEND;TZID=Europe/London:20231217T140000
DTSTAMP:20260421T173737
CREATED:20231106T135919Z
LAST-MODIFIED:20231106T135919Z
UID:10004250-1702807200-1702821600@www.kilsbyvillagehall.co.uk
SUMMARY:Private Booking
DESCRIPTION:
URL:https://www.kilsbyvillagehall.co.uk/event/private-booking-239/
END:VEVENT
BEGIN:VEVENT
DTSTART;TZID=Europe/London:20231216T120000
DTEND;TZID=Europe/London:20231216T190000
DTSTAMP:20260421T173737
CREATED:20231106T135817Z
LAST-MODIFIED:20231106T135817Z
UID:10004249-1702728000-1702753200@www.kilsbyvillagehall.co.uk
SUMMARY:Private Booking
DESCRIPTION:
URL:https://www.kilsbyvillagehall.co.uk/event/private-booking-238/
END:VEVENT
BEGIN:VEVENT
DTSTART;TZID=Europe/London:20231215T190000
DTEND;TZID=Europe/London:20231215T213000
DTSTAMP:20260421T173737
CREATED:20231106T135740Z
LAST-MODIFIED:20231106T135740Z
UID:10004248-1702666800-1702675800@www.kilsbyvillagehall.co.uk
SUMMARY:Youth Club
DESCRIPTION:
URL:https://www.kilsbyvillagehall.co.uk/event/youth-club-90/
END:VEVENT
BEGIN:VEVENT
DTSTART;TZID=Europe/London:20231214T190000
DTEND;TZID=Europe/London:20231214T210000
DTSTAMP:20260421T173737
CREATED:20231106T134359Z
LAST-MODIFIED:20231106T134359Z
UID:10004229-1702580400-1702587600@www.kilsbyvillagehall.co.uk
SUMMARY:Self Defence. Kilsby Rm
DESCRIPTION:
URL:https://www.kilsbyvillagehall.co.uk/event/self-defence-kilsby-rm-18/
END:VEVENT
BEGIN:VEVENT
DTSTART;TZID=Europe/London:20231214T150000
DTEND;TZID=Europe/London:20231214T223000
DTSTAMP:20260421T173737
CREATED:20231106T135658Z
LAST-MODIFIED:20231106T135658Z
UID:10004247-1702566000-1702593000@www.kilsbyvillagehall.co.uk
SUMMARY:W. I Christmas Party
DESCRIPTION:
URL:https://www.kilsbyvillagehall.co.uk/event/w-i-christmas-party/
END:VEVENT
BEGIN:VEVENT
DTSTART;TZID=Europe/London:20231212T193000
DTEND;TZID=Europe/London:20231212T203000
DTSTAMP:20260421T173737
CREATED:20231106T135535Z
LAST-MODIFIED:20231106T135535Z
UID:10004245-1702409400-1702413000@www.kilsbyvillagehall.co.uk
SUMMARY:Keep Fit
DESCRIPTION:
URL:https://www.kilsbyvillagehall.co.uk/event/keep-fit-61/
END:VEVENT
BEGIN:VEVENT
DTSTART;TZID=Europe/London:20231212T140000
DTEND;TZID=Europe/London:20231212T160000
DTSTAMP:20260421T173737
CREATED:20231106T135508Z
LAST-MODIFIED:20231106T135508Z
UID:10004244-1702389600-1702396800@www.kilsbyvillagehall.co.uk
SUMMARY:Over 60's Table Tennis
DESCRIPTION:
URL:https://www.kilsbyvillagehall.co.uk/event/over-60s-table-tennis-116/
END:VEVENT
END:VCALENDAR