BEGIN:VCALENDAR
VERSION:2.0
PRODID:-//Kilsby Village Hall - ECPv6.15.20//NONSGML v1.0//EN
CALSCALE:GREGORIAN
METHOD:PUBLISH
X-WR-CALNAME:Kilsby Village Hall
X-ORIGINAL-URL:https://www.kilsbyvillagehall.co.uk
X-WR-CALDESC:Events for Kilsby Village Hall
REFRESH-INTERVAL;VALUE=DURATION:PT1H
X-Robots-Tag:noindex
X-PUBLISHED-TTL:PT1H
BEGIN:VTIMEZONE
TZID:Europe/London
BEGIN:DAYLIGHT
TZOFFSETFROM:+0000
TZOFFSETTO:+0100
TZNAME:BST
DTSTART:20230326T010000
END:DAYLIGHT
BEGIN:STANDARD
TZOFFSETFROM:+0100
TZOFFSETTO:+0000
TZNAME:GMT
DTSTART:20231029T010000
END:STANDARD
BEGIN:DAYLIGHT
TZOFFSETFROM:+0000
TZOFFSETTO:+0100
TZNAME:BST
DTSTART:20240331T010000
END:DAYLIGHT
BEGIN:STANDARD
TZOFFSETFROM:+0100
TZOFFSETTO:+0000
TZNAME:GMT
DTSTART:20241027T010000
END:STANDARD
BEGIN:DAYLIGHT
TZOFFSETFROM:+0000
TZOFFSETTO:+0100
TZNAME:BST
DTSTART:20250330T010000
END:DAYLIGHT
BEGIN:STANDARD
TZOFFSETFROM:+0100
TZOFFSETTO:+0000
TZNAME:GMT
DTSTART:20251026T010000
END:STANDARD
END:VTIMEZONE
BEGIN:VEVENT
DTSTART;TZID=Europe/London:20240305T093000
DTEND;TZID=Europe/London:20240305T103000
DTSTAMP:20260420T025228
CREATED:20240127T115431Z
LAST-MODIFIED:20240127T115659Z
UID:10004860-1709631000-1709634600@www.kilsbyvillagehall.co.uk
SUMMARY:Mini Maestros
DESCRIPTION:
URL:https://www.kilsbyvillagehall.co.uk/event/mini-maestros-12/2024-03-05/
END:VEVENT
BEGIN:VEVENT
DTSTART;TZID=Europe/London:20240304T180000
DTEND;TZID=Europe/London:20240304T203000
DTSTAMP:20260420T025228
CREATED:20231231T123259Z
LAST-MODIFIED:20240219T160546Z
UID:10005501-1709575200-1709584200@www.kilsbyvillagehall.co.uk
SUMMARY:Pilates/Yoga
DESCRIPTION:
URL:https://www.kilsbyvillagehall.co.uk/event/pilates-yoga-52/2024-03-04/
END:VEVENT
BEGIN:VEVENT
DTSTART;TZID=Europe/London:20240304T090000
DTEND;TZID=Europe/London:20240304T120000
DTSTAMP:20260420T025228
CREATED:20240127T113948Z
LAST-MODIFIED:20240215T113306Z
UID:10005287-1709542800-1709553600@www.kilsbyvillagehall.co.uk
SUMMARY:Toddlers Playtime
DESCRIPTION:
URL:https://www.kilsbyvillagehall.co.uk/event/toddlers-playtime-113/2024-03-04/
END:VEVENT
BEGIN:VEVENT
DTSTART;TZID=Europe/London:20240303T123000
DTEND;TZID=Europe/London:20240303T153000
DTSTAMP:20260420T025228
CREATED:20240227T135617Z
LAST-MODIFIED:20240227T135710Z
UID:10005607-1709469000-1709479800@www.kilsbyvillagehall.co.uk
SUMMARY:Private Booking
DESCRIPTION:
URL:https://www.kilsbyvillagehall.co.uk/event/private-booking-266/
END:VEVENT
BEGIN:VEVENT
DTSTART;TZID=Europe/London:20240303T090000
DTEND;TZID=Europe/London:20240303T110000
DTSTAMP:20260420T025228
CREATED:20240127T120945Z
LAST-MODIFIED:20240215T112304Z
UID:10005190-1709456400-1709463600@www.kilsbyvillagehall.co.uk
SUMMARY:Dog Training
DESCRIPTION:
URL:https://www.kilsbyvillagehall.co.uk/event/dog-training-143/2024-03-03/
END:VEVENT
BEGIN:VEVENT
DTSTART;TZID=Europe/London:20240302T183000
DTEND;TZID=Europe/London:20240302T233000
DTSTAMP:20260420T025228
CREATED:20240127T122916Z
LAST-MODIFIED:20240127T122916Z
UID:10005224-1709404200-1709422200@www.kilsbyvillagehall.co.uk
SUMMARY:Ceilidh Evening
DESCRIPTION:
URL:https://www.kilsbyvillagehall.co.uk/event/ceilidh-evening/
END:VEVENT
BEGIN:VEVENT
DTSTART;TZID=Europe/London:20240302T100000
DTEND;TZID=Europe/London:20240302T140000
DTSTAMP:20260420T025228
CREATED:20240127T122729Z
LAST-MODIFIED:20240127T122729Z
UID:10005223-1709373600-1709388000@www.kilsbyvillagehall.co.uk
SUMMARY:Private Booking
DESCRIPTION:
URL:https://www.kilsbyvillagehall.co.uk/event/private-booking-252/
END:VEVENT
BEGIN:VEVENT
DTSTART;TZID=Europe/London:20240301T193000
DTEND;TZID=Europe/London:20240301T233000
DTSTAMP:20260420T025228
CREATED:20240127T122648Z
LAST-MODIFIED:20240127T122648Z
UID:10005219-1709321400-1709335800@www.kilsbyvillagehall.co.uk
SUMMARY:Jazz Club
DESCRIPTION:
URL:https://www.kilsbyvillagehall.co.uk/event/jazz-club-5/2024-03-01/
END:VEVENT
BEGIN:VEVENT
DTSTART;TZID=Europe/London:20240301T153000
DTEND;TZID=Europe/London:20240301T173000
DTSTAMP:20260420T025228
CREATED:20240127T122222Z
LAST-MODIFIED:20240603T225158Z
UID:10005654-1709307000-1709314200@www.kilsbyvillagehall.co.uk
SUMMARY:Jazz Club prep
DESCRIPTION:
URL:https://www.kilsbyvillagehall.co.uk/event/jazz-club-prep/2024-03-01/
END:VEVENT
BEGIN:VEVENT
DTSTART;TZID=Europe/London:20240229T190000
DTEND;TZID=Europe/London:20240229T210000
DTSTAMP:20260420T025228
CREATED:20240127T123522Z
LAST-MODIFIED:20240127T123522Z
UID:10005232-1709233200-1709240400@www.kilsbyvillagehall.co.uk
SUMMARY:Self Defence. Kilsby Rm
DESCRIPTION:
URL:https://www.kilsbyvillagehall.co.uk/event/self-defence-kilsby-rm-23/2024-02-29/
END:VEVENT
BEGIN:VEVENT
DTSTART;TZID=Europe/London:20240229T173000
DTEND;TZID=Europe/London:20240229T183000
DTSTAMP:20260420T025228
CREATED:20240127T122123Z
LAST-MODIFIED:20240215T111942Z
UID:10005212-1709227800-1709231400@www.kilsbyvillagehall.co.uk
SUMMARY:Dog Training
DESCRIPTION:
URL:https://www.kilsbyvillagehall.co.uk/event/dog-training-145/2024-02-29/
END:VEVENT
BEGIN:VEVENT
DTSTART;TZID=Europe/London:20240229T150000
DTEND;TZID=Europe/London:20240229T160000
DTSTAMP:20260420T025228
CREATED:20231231T131952Z
LAST-MODIFIED:20240125T113008Z
UID:10004573-1709218800-1709222400@www.kilsbyvillagehall.co.uk
SUMMARY:Private Booking.
DESCRIPTION:
URL:https://www.kilsbyvillagehall.co.uk/event/private-booking-248/2024-02-29/
END:VEVENT
BEGIN:VEVENT
DTSTART;TZID=Europe/London:20240228T130000
DTEND;TZID=Europe/London:20240228T150000
DTSTAMP:20260420T025228
CREATED:20240125T113229Z
LAST-MODIFIED:20240127T123850Z
UID:10004833-1709125200-1709132400@www.kilsbyvillagehall.co.uk
SUMMARY:Art Group. Kilsby Room
DESCRIPTION:
URL:https://www.kilsbyvillagehall.co.uk/event/art-group-kilsby-room-42/2024-02-28/
END:VEVENT
BEGIN:VEVENT
DTSTART;TZID=Europe/London:20240227T173000
DTEND;TZID=Europe/London:20240227T190000
DTSTAMP:20260420T025228
CREATED:20240127T121237Z
LAST-MODIFIED:20240215T112120Z
UID:10005197-1709055000-1709060400@www.kilsbyvillagehall.co.uk
SUMMARY:Dog Training
DESCRIPTION:
URL:https://www.kilsbyvillagehall.co.uk/event/dog-training-144/2024-02-27/
END:VEVENT
BEGIN:VEVENT
DTSTART;TZID=Europe/London:20240227T140000
DTEND;TZID=Europe/London:20240227T160000
DTSTAMP:20260420T025228
CREATED:20240127T120409Z
LAST-MODIFIED:20240127T120457Z
UID:10004869-1709042400-1709049600@www.kilsbyvillagehall.co.uk
SUMMARY:Over 60's Table Tennis
DESCRIPTION:
URL:https://www.kilsbyvillagehall.co.uk/event/over-60s-table-tennis-124/2024-02-27/
END:VEVENT
BEGIN:VEVENT
DTSTART;TZID=Europe/London:20240227T093000
DTEND;TZID=Europe/London:20240227T103000
DTSTAMP:20260420T025228
CREATED:20240127T115431Z
LAST-MODIFIED:20240127T115659Z
UID:10004859-1709026200-1709029800@www.kilsbyvillagehall.co.uk
SUMMARY:Mini Maestros
DESCRIPTION:
URL:https://www.kilsbyvillagehall.co.uk/event/mini-maestros-12/2024-02-27/
END:VEVENT
BEGIN:VEVENT
DTSTART;TZID=Europe/London:20240226T180000
DTEND;TZID=Europe/London:20240226T203000
DTSTAMP:20260420T025228
CREATED:20231231T123259Z
LAST-MODIFIED:20240219T160546Z
UID:10004857-1708970400-1708979400@www.kilsbyvillagehall.co.uk
SUMMARY:Pilates/Yoga
DESCRIPTION:
URL:https://www.kilsbyvillagehall.co.uk/event/pilates-yoga-52/2024-02-26/
END:VEVENT
BEGIN:VEVENT
DTSTART;TZID=Europe/London:20240226T090000
DTEND;TZID=Europe/London:20240226T120000
DTSTAMP:20260420T025228
CREATED:20240127T113948Z
LAST-MODIFIED:20240215T113306Z
UID:10004848-1708938000-1708948800@www.kilsbyvillagehall.co.uk
SUMMARY:Toddlers Playtime
DESCRIPTION:
URL:https://www.kilsbyvillagehall.co.uk/event/toddlers-playtime-113/2024-02-26/
END:VEVENT
BEGIN:VEVENT
DTSTART;TZID=Europe/London:20240225T090000
DTEND;TZID=Europe/London:20240225T110000
DTSTAMP:20260420T025228
CREATED:20240127T120945Z
LAST-MODIFIED:20240215T112304Z
UID:10005189-1708851600-1708858800@www.kilsbyvillagehall.co.uk
SUMMARY:Dog Training
DESCRIPTION:
URL:https://www.kilsbyvillagehall.co.uk/event/dog-training-143/2024-02-25/
END:VEVENT
BEGIN:VEVENT
DTSTART;TZID=Europe/London:20240222T190000
DTEND;TZID=Europe/London:20240222T210000
DTSTAMP:20260420T025228
CREATED:20240127T123522Z
LAST-MODIFIED:20240127T123522Z
UID:10005231-1708628400-1708635600@www.kilsbyvillagehall.co.uk
SUMMARY:Self Defence. Kilsby Rm
DESCRIPTION:
URL:https://www.kilsbyvillagehall.co.uk/event/self-defence-kilsby-rm-23/2024-02-22/
END:VEVENT
BEGIN:VEVENT
DTSTART;TZID=Europe/London:20240222T173000
DTEND;TZID=Europe/London:20240222T183000
DTSTAMP:20260420T025228
CREATED:20240127T122123Z
LAST-MODIFIED:20240215T111942Z
UID:10005211-1708623000-1708626600@www.kilsbyvillagehall.co.uk
SUMMARY:Dog Training
DESCRIPTION:
URL:https://www.kilsbyvillagehall.co.uk/event/dog-training-145/2024-02-22/
END:VEVENT
BEGIN:VEVENT
DTSTART;TZID=Europe/London:20240222T150000
DTEND;TZID=Europe/London:20240222T160000
DTSTAMP:20260420T025228
CREATED:20231231T131952Z
LAST-MODIFIED:20240125T113008Z
UID:10004572-1708614000-1708617600@www.kilsbyvillagehall.co.uk
SUMMARY:Private Booking.
DESCRIPTION:
URL:https://www.kilsbyvillagehall.co.uk/event/private-booking-248/2024-02-22/
END:VEVENT
BEGIN:VEVENT
DTSTART;TZID=Europe/London:20240221T100000
DTEND;TZID=Europe/London:20240221T130000
DTSTAMP:20260420T025228
CREATED:20240127T122004Z
LAST-MODIFIED:20240127T122004Z
UID:10005200-1708509600-1708520400@www.kilsbyvillagehall.co.uk
SUMMARY:Guide Dogs for Blind Puppy Training
DESCRIPTION:
URL:https://www.kilsbyvillagehall.co.uk/event/guide-dogs-for-blind-puppy-training/2024-02-21/
END:VEVENT
BEGIN:VEVENT
DTSTART;TZID=Europe/London:20240220T173000
DTEND;TZID=Europe/London:20240220T190000
DTSTAMP:20260420T025228
CREATED:20240127T121237Z
LAST-MODIFIED:20240215T112120Z
UID:10005196-1708450200-1708455600@www.kilsbyvillagehall.co.uk
SUMMARY:Dog Training
DESCRIPTION:
URL:https://www.kilsbyvillagehall.co.uk/event/dog-training-144/2024-02-20/
END:VEVENT
BEGIN:VEVENT
DTSTART;TZID=Europe/London:20240220T140000
DTEND;TZID=Europe/London:20240220T160000
DTSTAMP:20260420T025228
CREATED:20240127T120409Z
LAST-MODIFIED:20240127T120457Z
UID:10004868-1708437600-1708444800@www.kilsbyvillagehall.co.uk
SUMMARY:Over 60's Table Tennis
DESCRIPTION:
URL:https://www.kilsbyvillagehall.co.uk/event/over-60s-table-tennis-124/2024-02-20/
END:VEVENT
BEGIN:VEVENT
DTSTART;TZID=Europe/London:20240220T093000
DTEND;TZID=Europe/London:20240220T103000
DTSTAMP:20260420T025228
CREATED:20240127T115431Z
LAST-MODIFIED:20240127T115659Z
UID:10004858-1708421400-1708425000@www.kilsbyvillagehall.co.uk
SUMMARY:Mini Maestros
DESCRIPTION:
URL:https://www.kilsbyvillagehall.co.uk/event/mini-maestros-12/2024-02-20/
END:VEVENT
BEGIN:VEVENT
DTSTART;TZID=Europe/London:20240219T190000
DTEND;TZID=Europe/London:20240219T210000
DTSTAMP:20260420T025228
CREATED:20240127T123700Z
LAST-MODIFIED:20240130T104047Z
UID:10005233-1708369200-1708376400@www.kilsbyvillagehall.co.uk
SUMMARY:Village Hall Meeting/AGM. Kilsby Rm
DESCRIPTION:
URL:https://www.kilsbyvillagehall.co.uk/event/village-hall-agm-meeting-kilsby-rm/
END:VEVENT
BEGIN:VEVENT
DTSTART;TZID=Europe/London:20240219T180000
DTEND;TZID=Europe/London:20240219T203000
DTSTAMP:20260420T025228
CREATED:20231231T123259Z
LAST-MODIFIED:20240219T160546Z
UID:10004856-1708365600-1708374600@www.kilsbyvillagehall.co.uk
SUMMARY:Pilates/Yoga
DESCRIPTION:
URL:https://www.kilsbyvillagehall.co.uk/event/pilates-yoga-52/2024-02-19/
END:VEVENT
BEGIN:VEVENT
DTSTART;TZID=Europe/London:20240218T090000
DTEND;TZID=Europe/London:20240218T110000
DTSTAMP:20260420T025228
CREATED:20240127T120945Z
LAST-MODIFIED:20240215T112304Z
UID:10005188-1708246800-1708254000@www.kilsbyvillagehall.co.uk
SUMMARY:Dog Training
DESCRIPTION:
URL:https://www.kilsbyvillagehall.co.uk/event/dog-training-143/2024-02-18/
END:VEVENT
BEGIN:VEVENT
DTSTART;TZID=Europe/London:20240215T190000
DTEND;TZID=Europe/London:20240215T210000
DTSTAMP:20260420T025228
CREATED:20240127T123522Z
LAST-MODIFIED:20240127T123522Z
UID:10005230-1708023600-1708030800@www.kilsbyvillagehall.co.uk
SUMMARY:Self Defence. Kilsby Rm
DESCRIPTION:
URL:https://www.kilsbyvillagehall.co.uk/event/self-defence-kilsby-rm-23/2024-02-15/
END:VEVENT
END:VCALENDAR