BEGIN:VCALENDAR
VERSION:2.0
PRODID:-//Kilsby Village Hall - ECPv6.15.20//NONSGML v1.0//EN
CALSCALE:GREGORIAN
METHOD:PUBLISH
X-WR-CALNAME:Kilsby Village Hall
X-ORIGINAL-URL:https://www.kilsbyvillagehall.co.uk
X-WR-CALDESC:Events for Kilsby Village Hall
REFRESH-INTERVAL;VALUE=DURATION:PT1H
X-Robots-Tag:noindex
X-PUBLISHED-TTL:PT1H
BEGIN:VTIMEZONE
TZID:Europe/London
BEGIN:DAYLIGHT
TZOFFSETFROM:+0000
TZOFFSETTO:+0100
TZNAME:BST
DTSTART:20240331T010000
END:DAYLIGHT
BEGIN:STANDARD
TZOFFSETFROM:+0100
TZOFFSETTO:+0000
TZNAME:GMT
DTSTART:20241027T010000
END:STANDARD
BEGIN:DAYLIGHT
TZOFFSETFROM:+0000
TZOFFSETTO:+0100
TZNAME:BST
DTSTART:20250330T010000
END:DAYLIGHT
BEGIN:STANDARD
TZOFFSETFROM:+0100
TZOFFSETTO:+0000
TZNAME:GMT
DTSTART:20251026T010000
END:STANDARD
BEGIN:DAYLIGHT
TZOFFSETFROM:+0000
TZOFFSETTO:+0100
TZNAME:BST
DTSTART:20260329T010000
END:DAYLIGHT
BEGIN:STANDARD
TZOFFSETFROM:+0100
TZOFFSETTO:+0000
TZNAME:GMT
DTSTART:20261025T010000
END:STANDARD
END:VTIMEZONE
BEGIN:VEVENT
DTSTART;TZID=Europe/London:20251204T093000
DTEND;TZID=Europe/London:20251204T123000
DTSTAMP:20260421T053231
CREATED:20251014T143156Z
LAST-MODIFIED:20251014T143156Z
UID:10007795-1764840600-1764851400@www.kilsbyvillagehall.co.uk
SUMMARY:Church Coffee Morning - KR
DESCRIPTION:
URL:https://www.kilsbyvillagehall.co.uk/event/church-coffee-morning-kr-2/
END:VEVENT
BEGIN:VEVENT
DTSTART;TZID=Europe/London:20251204T150000
DTEND;TZID=Europe/London:20251204T160000
DTSTAMP:20260421T053231
CREATED:20251202T135253Z
LAST-MODIFIED:20251202T140005Z
UID:10004665-1764860400-1764864000@www.kilsbyvillagehall.co.uk
SUMMARY:Private Booking TT - MH
DESCRIPTION:
URL:https://www.kilsbyvillagehall.co.uk/event/private-booking-248-2/2025-12-04/
END:VEVENT
BEGIN:VEVENT
DTSTART;TZID=Europe/London:20251204T174500
DTEND;TZID=Europe/London:20251204T184500
DTSTAMP:20260421T053231
CREATED:20251202T131142Z
LAST-MODIFIED:20251202T131143Z
UID:10007817-1764870300-1764873900@www.kilsbyvillagehall.co.uk
SUMMARY:Dog Training - MH
DESCRIPTION:
URL:https://www.kilsbyvillagehall.co.uk/event/dog-training-mh-6-2/2025-12-04/
END:VEVENT
END:VCALENDAR