BEGIN:VCALENDAR
VERSION:2.0
PRODID:-//Kilsby Village Hall - ECPv6.15.20//NONSGML v1.0//EN
CALSCALE:GREGORIAN
METHOD:PUBLISH
X-ORIGINAL-URL:https://www.kilsbyvillagehall.co.uk
X-WR-CALDESC:Events for Kilsby Village Hall
REFRESH-INTERVAL;VALUE=DURATION:PT1H
X-Robots-Tag:noindex
X-PUBLISHED-TTL:PT1H
BEGIN:VTIMEZONE
TZID:Europe/London
BEGIN:DAYLIGHT
TZOFFSETFROM:+0000
TZOFFSETTO:+0100
TZNAME:BST
DTSTART:20240331T010000
END:DAYLIGHT
BEGIN:STANDARD
TZOFFSETFROM:+0100
TZOFFSETTO:+0000
TZNAME:GMT
DTSTART:20241027T010000
END:STANDARD
BEGIN:DAYLIGHT
TZOFFSETFROM:+0000
TZOFFSETTO:+0100
TZNAME:BST
DTSTART:20250330T010000
END:DAYLIGHT
BEGIN:STANDARD
TZOFFSETFROM:+0100
TZOFFSETTO:+0000
TZNAME:GMT
DTSTART:20251026T010000
END:STANDARD
BEGIN:DAYLIGHT
TZOFFSETFROM:+0000
TZOFFSETTO:+0100
TZNAME:BST
DTSTART:20260329T010000
END:DAYLIGHT
BEGIN:STANDARD
TZOFFSETFROM:+0100
TZOFFSETTO:+0000
TZNAME:GMT
DTSTART:20261025T010000
END:STANDARD
END:VTIMEZONE
BEGIN:VEVENT
DTSTART;TZID=Europe/London:20251202T140000
DTEND;TZID=Europe/London:20251202T160000
DTSTAMP:20260421T053412
CREATED:20251202T134915Z
LAST-MODIFIED:20251202T134955Z
UID:10004961-1764684000-1764691200@www.kilsbyvillagehall.co.uk
SUMMARY:Table Tennis - MH
DESCRIPTION:
URL:https://www.kilsbyvillagehall.co.uk/event/over-60s-table-tennis-124-2/2025-12-02/
END:VEVENT
BEGIN:VEVENT
DTSTART;TZID=Europe/London:20251202T180000
DTEND;TZID=Europe/London:20251202T190000
DTSTAMP:20260421T053412
CREATED:20251202T130648Z
LAST-MODIFIED:20251202T130928Z
UID:10008402-1764698400-1764702000@www.kilsbyvillagehall.co.uk
SUMMARY:Dog Training - MH
DESCRIPTION:
URL:https://www.kilsbyvillagehall.co.uk/event/dog-training-mh-7-3/2025-12-02/
END:VEVENT
END:VCALENDAR