BEGIN:VCALENDAR
VERSION:2.0
PRODID:-//Kilsby Village Hall - ECPv6.15.20//NONSGML v1.0//EN
CALSCALE:GREGORIAN
METHOD:PUBLISH
X-WR-CALNAME:Kilsby Village Hall
X-ORIGINAL-URL:https://www.kilsbyvillagehall.co.uk
X-WR-CALDESC:Events for Kilsby Village Hall
REFRESH-INTERVAL;VALUE=DURATION:PT1H
X-Robots-Tag:noindex
X-PUBLISHED-TTL:PT1H
BEGIN:VTIMEZONE
TZID:Europe/London
BEGIN:DAYLIGHT
TZOFFSETFROM:+0000
TZOFFSETTO:+0100
TZNAME:BST
DTSTART:20240331T010000
END:DAYLIGHT
BEGIN:STANDARD
TZOFFSETFROM:+0100
TZOFFSETTO:+0000
TZNAME:GMT
DTSTART:20241027T010000
END:STANDARD
BEGIN:DAYLIGHT
TZOFFSETFROM:+0000
TZOFFSETTO:+0100
TZNAME:BST
DTSTART:20250330T010000
END:DAYLIGHT
BEGIN:STANDARD
TZOFFSETFROM:+0100
TZOFFSETTO:+0000
TZNAME:GMT
DTSTART:20251026T010000
END:STANDARD
BEGIN:DAYLIGHT
TZOFFSETFROM:+0000
TZOFFSETTO:+0100
TZNAME:BST
DTSTART:20260329T010000
END:DAYLIGHT
BEGIN:STANDARD
TZOFFSETFROM:+0100
TZOFFSETTO:+0000
TZNAME:GMT
DTSTART:20261025T010000
END:STANDARD
END:VTIMEZONE
BEGIN:VEVENT
DTSTART;TZID=Europe/London:20251126T140000
DTEND;TZID=Europe/London:20251126T160000
DTSTAMP:20260421T053323
CREATED:20251111T123833Z
LAST-MODIFIED:20251111T124519Z
UID:10008277-1764165600-1764172800@www.kilsbyvillagehall.co.uk
SUMMARY:Art Class - KR
DESCRIPTION:
URL:https://www.kilsbyvillagehall.co.uk/event/art-class-kr-2-2/2025-11-26/
END:VEVENT
BEGIN:VEVENT
DTSTART;TZID=Europe/London:20251126T183000
DTEND;TZID=Europe/London:20251126T193000
DTSTAMP:20260421T053323
CREATED:20250817T085246Z
LAST-MODIFIED:20250817T085247Z
UID:10007148-1764181800-1764185400@www.kilsbyvillagehall.co.uk
SUMMARY:Circuit Training - MH
DESCRIPTION:
URL:https://www.kilsbyvillagehall.co.uk/event/circuit-training-mh-2/2025-11-26/
END:VEVENT
END:VCALENDAR