BEGIN:VCALENDAR
VERSION:2.0
PRODID:-//Kilsby Village Hall - ECPv6.15.20//NONSGML v1.0//EN
CALSCALE:GREGORIAN
METHOD:PUBLISH
X-WR-CALNAME:Kilsby Village Hall
X-ORIGINAL-URL:https://www.kilsbyvillagehall.co.uk
X-WR-CALDESC:Events for Kilsby Village Hall
REFRESH-INTERVAL;VALUE=DURATION:PT1H
X-Robots-Tag:noindex
X-PUBLISHED-TTL:PT1H
BEGIN:VTIMEZONE
TZID:Europe/London
BEGIN:DAYLIGHT
TZOFFSETFROM:+0000
TZOFFSETTO:+0100
TZNAME:BST
DTSTART:20240331T010000
END:DAYLIGHT
BEGIN:STANDARD
TZOFFSETFROM:+0100
TZOFFSETTO:+0000
TZNAME:GMT
DTSTART:20241027T010000
END:STANDARD
BEGIN:DAYLIGHT
TZOFFSETFROM:+0000
TZOFFSETTO:+0100
TZNAME:BST
DTSTART:20250330T010000
END:DAYLIGHT
BEGIN:STANDARD
TZOFFSETFROM:+0100
TZOFFSETTO:+0000
TZNAME:GMT
DTSTART:20251026T010000
END:STANDARD
BEGIN:DAYLIGHT
TZOFFSETFROM:+0000
TZOFFSETTO:+0100
TZNAME:BST
DTSTART:20260329T010000
END:DAYLIGHT
BEGIN:STANDARD
TZOFFSETFROM:+0100
TZOFFSETTO:+0000
TZNAME:GMT
DTSTART:20261025T010000
END:STANDARD
END:VTIMEZONE
BEGIN:VEVENT
DTSTART;TZID=Europe/London:20251113T150000
DTEND;TZID=Europe/London:20251113T160000
DTSTAMP:20260421T053321
CREATED:20231231T131952Z
LAST-MODIFIED:20240125T113008Z
UID:10004662-1763046000-1763049600@www.kilsbyvillagehall.co.uk
SUMMARY:Private Booking.
DESCRIPTION:
URL:https://www.kilsbyvillagehall.co.uk/event/private-booking-248/2025-11-13/
END:VEVENT
BEGIN:VEVENT
DTSTART;TZID=Europe/London:20251113T161500
DTEND;TZID=Europe/London:20251113T171500
DTSTAMP:20260421T053321
CREATED:20251024T131828Z
LAST-MODIFIED:20251024T134652Z
UID:10007811-1763050500-1763054100@www.kilsbyvillagehall.co.uk
SUMMARY:Sensitive Paws - MH
DESCRIPTION:
URL:https://www.kilsbyvillagehall.co.uk/event/private-event-mh-7-2/
END:VEVENT
BEGIN:VEVENT
DTSTART;TZID=Europe/London:20251113T174500
DTEND;TZID=Europe/London:20251113T184500
DTSTAMP:20260421T053321
CREATED:20251024T135045Z
LAST-MODIFIED:20251024T144754Z
UID:10007814-1763055900-1763059500@www.kilsbyvillagehall.co.uk
SUMMARY:Dog Training - MH
DESCRIPTION:
URL:https://www.kilsbyvillagehall.co.uk/event/dog-training-mh-6/2025-11-13/
END:VEVENT
BEGIN:VEVENT
DTSTART;TZID=Europe/London:20251113T190000
DTEND;TZID=Europe/London:20251113T220000
DTSTAMP:20260421T053321
CREATED:20240127T120633Z
LAST-MODIFIED:20240127T130626Z
UID:10005147-1763060400-1763071200@www.kilsbyvillagehall.co.uk
SUMMARY:W.I. Meeting
DESCRIPTION:
URL:https://www.kilsbyvillagehall.co.uk/event/w-i-meeting-4/2025-11-13/
END:VEVENT
END:VCALENDAR