BEGIN:VCALENDAR
VERSION:2.0
PRODID:-//Kilsby Village Hall - ECPv6.15.20//NONSGML v1.0//EN
CALSCALE:GREGORIAN
METHOD:PUBLISH
X-WR-CALNAME:Kilsby Village Hall
X-ORIGINAL-URL:https://www.kilsbyvillagehall.co.uk
X-WR-CALDESC:Events for Kilsby Village Hall
REFRESH-INTERVAL;VALUE=DURATION:PT1H
X-Robots-Tag:noindex
X-PUBLISHED-TTL:PT1H
BEGIN:VTIMEZONE
TZID:Europe/London
BEGIN:DAYLIGHT
TZOFFSETFROM:+0000
TZOFFSETTO:+0100
TZNAME:BST
DTSTART:20240331T010000
END:DAYLIGHT
BEGIN:STANDARD
TZOFFSETFROM:+0100
TZOFFSETTO:+0000
TZNAME:GMT
DTSTART:20241027T010000
END:STANDARD
BEGIN:DAYLIGHT
TZOFFSETFROM:+0000
TZOFFSETTO:+0100
TZNAME:BST
DTSTART:20250330T010000
END:DAYLIGHT
BEGIN:STANDARD
TZOFFSETFROM:+0100
TZOFFSETTO:+0000
TZNAME:GMT
DTSTART:20251026T010000
END:STANDARD
BEGIN:DAYLIGHT
TZOFFSETFROM:+0000
TZOFFSETTO:+0100
TZNAME:BST
DTSTART:20260329T010000
END:DAYLIGHT
BEGIN:STANDARD
TZOFFSETFROM:+0100
TZOFFSETTO:+0000
TZNAME:GMT
DTSTART:20261025T010000
END:STANDARD
END:VTIMEZONE
BEGIN:VEVENT
DTSTART;TZID=Europe/London:20251022T140000
DTEND;TZID=Europe/London:20251022T160000
DTSTAMP:20260421T040918
CREATED:20250908T092702Z
LAST-MODIFIED:20250908T092702Z
UID:10007370-1761141600-1761148800@www.kilsbyvillagehall.co.uk
SUMMARY:Art Class - KR
DESCRIPTION:
URL:https://www.kilsbyvillagehall.co.uk/event/art-class-kr/2025-10-22/
END:VEVENT
BEGIN:VEVENT
DTSTART;TZID=Europe/London:20251022T163000
DTEND;TZID=Europe/London:20251022T173000
DTSTAMP:20260421T040918
CREATED:20251021T132205Z
LAST-MODIFIED:20251021T132205Z
UID:10007801-1761150600-1761154200@www.kilsbyvillagehall.co.uk
SUMMARY:Private Event - MH
DESCRIPTION:
URL:https://www.kilsbyvillagehall.co.uk/event/private-event-mh-14/
END:VEVENT
BEGIN:VEVENT
DTSTART;TZID=Europe/London:20251022T183000
DTEND;TZID=Europe/London:20251022T193000
DTSTAMP:20260421T040918
CREATED:20250817T085246Z
LAST-MODIFIED:20250817T085247Z
UID:10007143-1761157800-1761161400@www.kilsbyvillagehall.co.uk
SUMMARY:Circuit Training - MH
DESCRIPTION:
URL:https://www.kilsbyvillagehall.co.uk/event/circuit-training-mh-2/2025-10-22/
END:VEVENT
BEGIN:VEVENT
DTSTART;TZID=Europe/London:20251022T193000
DTEND;TZID=Europe/London:20251022T210000
DTSTAMP:20260421T040918
CREATED:20250923T120818Z
LAST-MODIFIED:20250923T120818Z
UID:10007761-1761161400-1761166800@www.kilsbyvillagehall.co.uk
SUMMARY:Self Defence - KR
DESCRIPTION:
URL:https://www.kilsbyvillagehall.co.uk/event/self-defence-kr-5/2025-10-22/
END:VEVENT
END:VCALENDAR